BEGIN:VCALENDAR
VERSION:2.0
PRODID:-//wp-events-plugin.com//7.2.3.1//EN
TZID:Europe/Stockholm
X-WR-TIMEZONE:Europe/Stockholm
BEGIN:VEVENT
UID:840@storumanlapland.se
DTSTART;TZID=Europe/Stockholm:20250910T170000
DTEND;TZID=Europe/Stockholm:20250910T210000
DTSTAMP:20250910T123054Z
URL:https://storumanlapland.se/evenemang/afterwork/
SUMMARY:Afterwork
DESCRIPTION:Kvällsmys i växthusen\nAfterwork onsdagar i September 17-21\n
 \nI Trädgårdscaféet serveras Husets soppa av egenodlade grönsaker och 
 Varma mackor med salladstallrik.\n\nHöstrea på buskar\, träd o perenner
 .
CATEGORIES:Café och Restaurang,Shopping
LOCATION:stensele handelsträdgård\, Blomstergränd 1\, Stensele\, 92341\,
  Sverige
GEO:65.067479;17.145075
X-APPLE-STRUCTURED-LOCATION;VALUE=URI;X-ADDRESS=Blomstergränd 1\, Stensele
 \, 92341\, Sverige;X-APPLE-RADIUS=100;X-TITLE=stensele handelsträdgård:g
 eo:65.067479,17.145075
END:VEVENT
BEGIN:VTIMEZONE
TZID:Europe/Stockholm
X-LIC-LOCATION:Europe/Stockholm
BEGIN:DAYLIGHT
DTSTART:20250330T030000
TZOFFSETFROM:+0100
TZOFFSETTO:+0200
TZNAME:CEST
END:DAYLIGHT
END:VTIMEZONE
END:VCALENDAR