BEGIN:VCALENDAR
VERSION:2.0
PRODID:-//wp-events-plugin.com//7.2.3.1//EN
TZID:Europe/Stockholm
X-WR-TIMEZONE:Europe/Stockholm
BEGIN:VEVENT
UID:887@storumanlapland.se
DTSTART;TZID=Europe/Stockholm:20251101T120000
DTEND;TZID=Europe/Stockholm:20251101T180000
DTSTAMP:20251030T131020Z
URL:https://storumanlapland.se/evenemang/allhelgona-pa-kulturcafeet-2/
SUMMARY:Allhelgona på kulturcaféet
DESCRIPTION:Äntligen är det dags för årets stora café här på Shangri
 -La.Som vanligt kommer det att finnas mycket gott att välja mellan - allt
  från goda räksmörgåsar och vetebröd med kardemumma och saffran till 
 fantastiska palmierer\, tiramisu och självklart morotskakor. Och mycket\,
  mycket annat gott...VARMT VÄLKOMNALördagen den 1 novemberkl 12.00-18.00
CATEGORIES:Café och Restaurang
LOCATION:Kulturcafé Shangri-La\, Blå Vägen 43\, Stensele\, Västerbotten
 \, 92341\, Lappland\, Sverige
GEO:65.0647078;17.15994082
X-APPLE-STRUCTURED-LOCATION;VALUE=URI;X-ADDRESS=Blå Vägen 43\, Stensele\,
  Västerbotten\, 92341\, Lappland\, Sverige;X-APPLE-RADIUS=100;X-TITLE=Kul
 turcafé Shangri-La:geo:65.0647078,17.15994082
END:VEVENT
BEGIN:VTIMEZONE
TZID:Europe/Stockholm
X-LIC-LOCATION:Europe/Stockholm
BEGIN:STANDARD
DTSTART:20251026T020000
TZOFFSETFROM:+0200
TZOFFSETTO:+0100
TZNAME:CET
END:STANDARD
END:VTIMEZONE
END:VCALENDAR