BEGIN:VCALENDAR
VERSION:2.0
PRODID:-//wp-events-plugin.com//7.2.3.1//EN
TZID:Europe/Stockholm
X-WR-TIMEZONE:Europe/Stockholm
BEGIN:VEVENT
UID:560@storumanlapland.se
DTSTART;TZID=Europe/Stockholm:20240713T160000
DTEND;TZID=Europe/Stockholm:20240713T235900
DTSTAMP:20240707T132349Z
URL:https://storumanlapland.se/evenemang/barsele-farm-fest/
SUMMARY:Barsele Farm Fest
DESCRIPTION:Lokal mat\, dryck och underhållning!\nVarmt välkomna\,\n\n&nb
 sp\;
CATEGORIES:Café och Restaurang,Musik,Nöje
LOCATION:Barsele Gårdsbryggeri\, Byavägen 48\, Barsele \, 92396\, Sverige
GEO:65.051629;17.430861
X-APPLE-STRUCTURED-LOCATION;VALUE=URI;X-ADDRESS=Byavägen 48\, Barsele \, 9
 2396\, Sverige;X-APPLE-RADIUS=100;X-TITLE=Barsele Gårdsbryggeri:geo:65.05
 1629,17.430861
END:VEVENT
BEGIN:VTIMEZONE
TZID:Europe/Stockholm
X-LIC-LOCATION:Europe/Stockholm
BEGIN:DAYLIGHT
DTSTART:20240331T030000
TZOFFSETFROM:+0100
TZOFFSETTO:+0200
TZNAME:CEST
END:DAYLIGHT
END:VTIMEZONE
END:VCALENDAR