BEGIN:VCALENDAR
VERSION:2.0
PRODID:-//wp-events-plugin.com//7.2.3.1//EN
TZID:Europe/Stockholm
X-WR-TIMEZONE:Europe/Stockholm
BEGIN:VEVENT
UID:767@storumanlapland.se
DTSTART;TZID=Europe/Stockholm:20250419T110000
DTEND;TZID=Europe/Stockholm:20250419T130000
DTSTAMP:20250417T112950Z
URL:https://storumanlapland.se/evenemang/barselemasterskapen-i-pimpelfiske
 /
SUMMARY:Barselemästerskapen i pimpelfiske
DESCRIPTION:
LOCATION:Barsele\, Stationsvägen 3\, Barsele\, Västerbottens län\, 92396
 \, Sverige
GEO:65.047155;17.437535
X-APPLE-STRUCTURED-LOCATION;VALUE=URI;X-ADDRESS=Stationsvägen 3\, Barsele\
 , Västerbottens län\, 92396\, Sverige;X-APPLE-RADIUS=100;X-TITLE=Barsele
 :geo:65.047155,17.437535
END:VEVENT
BEGIN:VTIMEZONE
TZID:Europe/Stockholm
X-LIC-LOCATION:Europe/Stockholm
BEGIN:DAYLIGHT
DTSTART:20250330T030000
TZOFFSETFROM:+0100
TZOFFSETTO:+0200
TZNAME:CEST
END:DAYLIGHT
END:VTIMEZONE
END:VCALENDAR