BEGIN:VCALENDAR
VERSION:2.0
PRODID:-//wp-events-plugin.com//7.2.3.1//EN
TZID:Europe/Stockholm
X-WR-TIMEZONE:Europe/Stockholm
BEGIN:VEVENT
UID:930@storumanlapland.se
DTSTART;TZID=Europe/Stockholm:20260108T190000
DTEND;TZID=Europe/Stockholm:20260108T203000
DTSTAMP:20251221T132323Z
URL:https://storumanlapland.se/evenemang/biofilm-100-liter-guld/
SUMMARY:Biofilm - 100 liter guld
DESCRIPTION:100 liter guld är den roligaste (och enda) finska västernfilm
 en du sett om systerskap och alkoholism.\n\nPirkko och Taina är två syst
 rar som följer släktens tradition som sahti*-tillverkare. Då deras tred
 je syster Päivi en dag dyker upp med sin nya fästman\, så vill hon att 
 de gör 100 liter sahti till hennes stundande bröllop. Systrarna sätter 
 genast i gång med förberedelserna eftersom den perfekta sahtin tar flera
  veckor att framställa. Både deras rykte och familjerelationer står nu 
 på spel\, de måste få till en fantastisk sats sahti. Och det lyckas de 
 med\, så pass bra att den obligatoriska smakprovningen spårar ur totalt.
  Två dagar innan bröllopet vaknar systrarna till den grymma verkligheten
 : sahtin är slut. Här börjar en kamp mot klockan där alla medel är ti
 llåtna.\n\nEn humoristisk\, mörk berättelse om att fastna i dåtid\, om
  självförakt och om förlåtelse.\n\n*Sahti är en ölsort som bryggs p
 å ett litet område i Finland. Den lilla staden Sysmä ses ofta som dryck
 ens hemort. På grund av hur sahtin tillverkas har den mycket kort hållba
 rhet och måste därför inmundigas snabbt efter färdigställning.\n\nI r
 ollerna\nElina Knihtilä\, Pirjo Lonka\, Ville Tiihonen\, Ria Kataja\, Jak
 ob Öhrman\, Elmer Bäck\, Jari Pehkonen\, Pertti Sveholm\, Vilma Melasnie
 mi\, Rami Rusinen\n\n 	Regi - Teemu Nikki\n 	Speltid - 88 min\n 	Genre 
 - Drama\, Komedi\, Western\n 	Åldersgräns - Från 11 år\n 	Originaltit
 el - 100 litraa sahtia\n 	Premiärdatum - 2025-11-21\n
CATEGORIES:Bio
LOCATION:Storumans Folkets Hus\, Blå Vägen 256\, Storuman\, Västerbotten
 s län\, 92331\, Lappland\, Sverige
GEO:65.10247282;17.12385841
X-APPLE-STRUCTURED-LOCATION;VALUE=URI;X-ADDRESS=Blå Vägen 256\, Storuman\
 , Västerbottens län\, 92331\, Lappland\, Sverige;X-APPLE-RADIUS=100;X-TI
 TLE=Storumans Folkets Hus:geo:65.10247282,17.12385841
END:VEVENT
BEGIN:VTIMEZONE
TZID:Europe/Stockholm
X-LIC-LOCATION:Europe/Stockholm
BEGIN:STANDARD
DTSTART:20251026T020000
TZOFFSETFROM:+0200
TZOFFSETTO:+0100
TZNAME:CET
END:STANDARD
END:VTIMEZONE
END:VCALENDAR