BEGIN:VCALENDAR
VERSION:2.0
PRODID:-//wp-events-plugin.com//7.2.3.1//EN
TZID:Europe/Stockholm
X-WR-TIMEZONE:Europe/Stockholm
BEGIN:VEVENT
UID:931@storumanlapland.se
DTSTART;TZID=Europe/Stockholm:20260111T140000
DTEND;TZID=Europe/Stockholm:20260111T151500
DTSTAMP:20251221T132526Z
URL:https://storumanlapland.se/evenemang/biofilm-bamse-och-havets-hemlighe
 t/
SUMMARY:Biofilm - Bamse och havets hemlighet
DESCRIPTION:Det är något mystiskt som händer i havet utanför Småköpin
 g. Fastän vädret är vackert skapas stora vågor som sköljer in över h
 amnen\, piren och den lilla staden. Vad kan det vara som gör så starka v
 ågor att båtar spolas iland och sjörövarna hamnar i en grantopp? Samti
 digt\, på förskolan Eken\, börjar Mini-Hopp att spela fiol. Det går d
 åligt. Det bara gnisslar. Ingen tycker det låter fint. Alla bara skratta
 r. Aldrig har Mini-Hopp känt sig så ensam som när han sorgset sparkar g
 rus på sin väg ned mot vattnet och ställer sig längst ute på en klipp
 a för att få vara ifred med sin fiol. Men plötsligt\, när han sätter 
 stråken mot strängarna\, börjar det bubbla i vattnet nedanför klippan 
 och något väldigt stort reser sig ur havet.\n\nStöd för syntolkning\n\
 nI rollerna\nRolf Lassgård\, Johan Glans\, Johan Ulveson\n\n 	Regi - Chr
 istian Ryltenius\n 	Speltid - 69 min\n 	Genre - Animerad film\, Barnfilm
 \n 	Åldersgräns - Barntillåten\n 	Originaltitel - Bamse och havets he
 mlighet\n 	Premiärdatum - 2025-12-19\n
CATEGORIES:Bio
LOCATION:Storumans Folkets Hus\, Blå Vägen 256\, Storuman\, Västerbotten
 s län\, 92331\, Lappland\, Sverige
GEO:65.10247282;17.12385841
X-APPLE-STRUCTURED-LOCATION;VALUE=URI;X-ADDRESS=Blå Vägen 256\, Storuman\
 , Västerbottens län\, 92331\, Lappland\, Sverige;X-APPLE-RADIUS=100;X-TI
 TLE=Storumans Folkets Hus:geo:65.10247282,17.12385841
END:VEVENT
BEGIN:VTIMEZONE
TZID:Europe/Stockholm
X-LIC-LOCATION:Europe/Stockholm
BEGIN:STANDARD
DTSTART:20251026T020000
TZOFFSETFROM:+0200
TZOFFSETTO:+0100
TZNAME:CET
END:STANDARD
END:VTIMEZONE
END:VCALENDAR