BEGIN:VCALENDAR
VERSION:2.0
PRODID:-//wp-events-plugin.com//7.2.3.1//EN
TZID:Europe/Stockholm
X-WR-TIMEZONE:Europe/Stockholm
BEGIN:VEVENT
UID:1008@storumanlapland.se
DTSTART;TZID=Europe/Stockholm:20260226T190000
DTEND;TZID=Europe/Stockholm:20260226T213000
DTSTAMP:20260220T082441Z
URL:https://storumanlapland.se/evenemang/biofilm-crime-101/
SUMMARY:Biofilm - Crime 101
DESCRIPTION:I ett solblekt och slitet Los Angeles utspelar sig Crime 101 - 
 historien om en slipad juveltjuv (Chris Hemsworth) vars kupper har förbry
 llat polisen genom åren. När han planerar sin största stöt\, korsas ha
 ns väg med en desillusionerad försäkringsmäklare (Halle Berry) som sj
 älv står vid ett vägskäl. En envis detektiv (Mark Ruffalo)\, övertyga
 d om att han har hittat ett mönster\, är dem hack i häl och riskerna ö
 kar. När stöten närmar sig börjar gränsen mellan jägare och jagad at
 t suddas ut\, och alla tre ställs inför livsavgörande val - och insikte
 n att det inte finns någon väg tillbaka.\n\nFilmen är baserad på Don W
 inslows hyllade novell med samma namn och filmen är skriven och regissera
 d av Bart Layton (American Animals\, The Imposter). I övriga roller ser v
 i Barry Keoghan\, Monica Barbaro\, Corey Hawkins\, Jennifer Jason Leigh oc
 h Nick Nolte.\n\n\n\n 	Regi - Bart Layton\n 	Speltid - 140 min\n 	Genre
  - Action\, Crime\n 	Åldersgräns - Från 15 år\n 	Originaltitel - Cr
 ime 101\n 	Premiärdatum - 2026-02-13\n
ATTACH;FMTTYPE=image/jpeg:https://storumanlapland.se/wp-content/uploads/20
 26/02/Crime-101.png
CATEGORIES:Bio
LOCATION:Storumans Folkets Hus\, Blå Vägen 256\, Storuman\, Västerbotten
 s län\, 92331\, Lappland\, Sverige
GEO:65.10247282;17.12385841
X-APPLE-STRUCTURED-LOCATION;VALUE=URI;X-ADDRESS=Blå Vägen 256\, Storuman\
 , Västerbottens län\, 92331\, Lappland\, Sverige;X-APPLE-RADIUS=100;X-TI
 TLE=Storumans Folkets Hus:geo:65.10247282,17.12385841
END:VEVENT
BEGIN:VTIMEZONE
TZID:Europe/Stockholm
X-LIC-LOCATION:Europe/Stockholm
BEGIN:STANDARD
DTSTART:20251026T020000
TZOFFSETFROM:+0200
TZOFFSETTO:+0100
TZNAME:CET
END:STANDARD
END:VTIMEZONE
END:VCALENDAR