BEGIN:VCALENDAR
VERSION:2.0
PRODID:-//wp-events-plugin.com//7.2.3.1//EN
TZID:Europe/Stockholm
X-WR-TIMEZONE:Europe/Stockholm
BEGIN:VEVENT
UID:748@storumanlapland.se
DTSTART;TZID=Europe/Stockholm:20250511T190000
DTEND;TZID=Europe/Stockholm:20250511T204500
DTSTAMP:20250414T070426Z
URL:https://storumanlapland.se/evenemang/biofilm-ddeath-of-a-unicorn/
SUMMARY:Biofilm - Death of a Unicorn
DESCRIPTION:Filminformation\nEn man och hans tonårsdotter kör av misstag 
 på en livs levande enhörning. De tar med enhörningen till en rehabilite
 ringsanläggning som ägs av en förmögen VD för ett läkemedelsbolag. F
 orskare på anläggningen upptäcker att varelsen har övernaturligt botan
 de egenskaper. Men när de undersöker dess krafter närmare\, inser de sn
 art de livsfarliga konsekvenser som deras experimenterande för med sig.\n
 \nI rollerna\nJenna Ortega\, Paul Rudd\, Will Poulter\, Téa Leoni\, Richa
 rd E. Grant\n\n 	Regi - Alex Scharfman\n 	Speltid - 108 min\n 	Genre - 
 Skräck\, Komedi\, Fantasy\n 	Åldersgräns - Från 15 år\n
CATEGORIES:Bio
LOCATION:Storumans Folkets Hus\, Blå Vägen 256\, Storuman\, Västerbotten
 s län\, 92331\, Lappland\, Sverige
GEO:65.10247282;17.12385841
X-APPLE-STRUCTURED-LOCATION;VALUE=URI;X-ADDRESS=Blå Vägen 256\, Storuman\
 , Västerbottens län\, 92331\, Lappland\, Sverige;X-APPLE-RADIUS=100;X-TI
 TLE=Storumans Folkets Hus:geo:65.10247282,17.12385841
END:VEVENT
BEGIN:VTIMEZONE
TZID:Europe/Stockholm
X-LIC-LOCATION:Europe/Stockholm
BEGIN:DAYLIGHT
DTSTART:20250330T030000
TZOFFSETFROM:+0100
TZOFFSETTO:+0200
TZNAME:CEST
END:DAYLIGHT
END:VTIMEZONE
END:VCALENDAR