BEGIN:VCALENDAR
VERSION:2.0
PRODID:-//wp-events-plugin.com//7.2.3.1//EN
TZID:Europe/Stockholm
X-WR-TIMEZONE:Europe/Stockholm
BEGIN:VEVENT
UID:630@storumanlapland.se
DTSTART;TZID=Europe/Stockholm:20241103T140000
DTEND;TZID=Europe/Stockholm:20241103T154500
DTSTAMP:20241021T154550Z
URL:https://storumanlapland.se/evenemang/biofilm-den-vilda-roboten/
SUMMARY:Biofilm - Den vilda roboten
DESCRIPTION:Från DreamWorks Animation kommer en ny adaption av den litter
 ära sensationen\, Peter Browns älskade\, prisbelönta bästsäljare\, Th
 e Wild Robot.\n\nDet episka äventyret följer en robots (ROZZUM-enhet 713
 4\, förkortat "Roz") resa som förlist på en obebodd ö där den måste 
 anpassa sig till de tuffa omgivningarna\, bygga relationer med djuren på 
 ön samt bli adoptivförälder till en föräldralös gåsunge. En stark b
 erättelse om upptäckten av jaget\, en spännande utvärdering av kopplin
 gen mellan teknik och natur samt en gripande tolkning av vad det innebär 
 att vara levande och sammanlänkad med allting levande.\n\nI rollerna\nSve
 nska röster: Mary N’diaye\, Vilhelm Blomgren\, Lia Boysen\, Johan Glans
  mfl Originalröster: Lupita Nyong'o\, Pedro Pascal\, Catherine O'Hara\, B
 ill Nighy\, Kit Connor\, Stephanie Hsu\, Mark Hamill mfl\n\n 	Regi - Chri
 s Sanders\n 	Speltid - 102 min\n 	Genre - Animerad film\, Animerad famil
 jefilm\n 	Åldersgräns - Från 7 år\n 	Originaltitel - The Wild Ro\n
CATEGORIES:Bio
LOCATION:Storumans Folkets Hus\, Blå Vägen 256\, Storuman\, Västerbotten
 s län\, 92331\, Lappland\, Sverige
GEO:65.10247282;17.12385841
X-APPLE-STRUCTURED-LOCATION;VALUE=URI;X-ADDRESS=Blå Vägen 256\, Storuman\
 , Västerbottens län\, 92331\, Lappland\, Sverige;X-APPLE-RADIUS=100;X-TI
 TLE=Storumans Folkets Hus:geo:65.10247282,17.12385841
END:VEVENT
BEGIN:VTIMEZONE
TZID:Europe/Stockholm
X-LIC-LOCATION:Europe/Stockholm
BEGIN:STANDARD
DTSTART:20241027T020000
TZOFFSETFROM:+0200
TZOFFSETTO:+0100
TZNAME:CET
END:STANDARD
END:VTIMEZONE
END:VCALENDAR