BEGIN:VCALENDAR
VERSION:2.0
PRODID:-//wp-events-plugin.com//7.2.3.1//EN
TZID:Europe/Stockholm
X-WR-TIMEZONE:Europe/Stockholm
BEGIN:VEVENT
UID:619@storumanlapland.se
DTSTART;TZID=Europe/Stockholm:20241014T130000
DTEND;TZID=Europe/Stockholm:20241014T143000
DTSTAMP:20241008T081014Z
URL:https://storumanlapland.se/evenemang/biofilm-det-kunde-varit-vi/
SUMMARY:Biofilm - Det kunde varit vi
DESCRIPTION:\n\nEfter succén med Catwalk är Emma Örtlund och Ida Johanss
 on från Glada Hudik-teatern två av\nlandets mest älskade filmpersonligh
 eter. Nu är de tillbaka i filmen Det kunde varit vi.\n\nI en bedagad husb
 il ger de sig ut på vägarna tillsammans med Pär Johansson\, för att ta
  reda på hur det var att leva med en intellektuell funktionsnedsättning 
 i en annan tid. En tid då det utfördes fruktansvärda experiment på på
  Vipeholmsanstalten.\n\nUnder resan får Emma\, Ida och Pär hjälp av exp
 erter som Ola Larsmo\, Elin Bommenel och Kalle Lind.\n\nDet kunde varit vi
  är en berättelse om upprättelse\, men också om mod och livsglädje.\n
 \n
CATEGORIES:Bio
LOCATION:Storumans Folkets Hus\, Blå Vägen 256\, Storuman\, Västerbotten
 s län\, 92331\, Lappland\, Sverige
GEO:65.10247282;17.12385841
X-APPLE-STRUCTURED-LOCATION;VALUE=URI;X-ADDRESS=Blå Vägen 256\, Storuman\
 , Västerbottens län\, 92331\, Lappland\, Sverige;X-APPLE-RADIUS=100;X-TI
 TLE=Storumans Folkets Hus:geo:65.10247282,17.12385841
END:VEVENT
BEGIN:VTIMEZONE
TZID:Europe/Stockholm
X-LIC-LOCATION:Europe/Stockholm
BEGIN:DAYLIGHT
DTSTART:20240331T030000
TZOFFSETFROM:+0100
TZOFFSETTO:+0200
TZNAME:CEST
END:DAYLIGHT
END:VTIMEZONE
END:VCALENDAR