BEGIN:VCALENDAR
VERSION:2.0
PRODID:-//wp-events-plugin.com//7.2.3.1//EN
TZID:Europe/Stockholm
X-WR-TIMEZONE:Europe/Stockholm
BEGIN:VEVENT
UID:792@storumanlapland.se
DTSTART;TZID=Europe/Stockholm:20250629T140000
DTEND;TZID=Europe/Stockholm:20250629T153000
DTSTAMP:20250605T112343Z
URL:https://storumanlapland.se/evenemang/biofilm-elio/
SUMMARY:Biofilm - Elio
DESCRIPTION:Tänk om det du söker efter hittar dig först? I Pixar Animati
 on Studios nya äventyr upptäcker den utomjordingsfixerade Elio svaret p
 å den frågan när han transporteras till Communiverse\, ett interplanet
 ärt paradis som är ett hem för intelligent liv från galaxer långt bor
 t.\n\nMen när han misstas för att vara jordens ledare måste han knyta o
 väntade band\, navigera sig igenom en kris av intergalaktiska proportione
 r och samtidigt inte missa chansen att leva ut sin ultimata dröm.\n\nI ro
 llerna\nRöster: America Ferrera\, Yonas Kibreab\n\n 	Regi - Adrian Molin
 a\n 	Speltid - 97 min\n 	Genre - Animerad familjefilm\n 	Åldersgräns 
 - Från 7 år\n
CATEGORIES:Bio
LOCATION:Storumans Folkets Hus\, Blå Vägen 256\, Storuman\, Västerbotten
 s län\, 92331\, Lappland\, Sverige
GEO:65.10247282;17.12385841
X-APPLE-STRUCTURED-LOCATION;VALUE=URI;X-ADDRESS=Blå Vägen 256\, Storuman\
 , Västerbottens län\, 92331\, Lappland\, Sverige;X-APPLE-RADIUS=100;X-TI
 TLE=Storumans Folkets Hus:geo:65.10247282,17.12385841
END:VEVENT
BEGIN:VTIMEZONE
TZID:Europe/Stockholm
X-LIC-LOCATION:Europe/Stockholm
BEGIN:DAYLIGHT
DTSTART:20250330T030000
TZOFFSETFROM:+0100
TZOFFSETTO:+0200
TZNAME:CEST
END:DAYLIGHT
END:VTIMEZONE
END:VCALENDAR