BEGIN:VCALENDAR
VERSION:2.0
PRODID:-//wp-events-plugin.com//7.2.3.1//EN
TZID:Europe/Stockholm
X-WR-TIMEZONE:Europe/Stockholm
BEGIN:VEVENT
UID:1058@storumanlapland.se
DTSTART;TZID=Europe/Stockholm:20260531T140000
DTEND;TZID=Europe/Stockholm:20260531T153000
DTSTAMP:20260420T092546Z
URL:https://storumanlapland.se/evenemang/biofilm-en-natt-i-djurparken/
SUMMARY:Biofilm - En natt i djurparken
DESCRIPTION:&nbsp\;\n\n 	\nFilminformation\nNär en meteor kraschar ner i e
 n djurpark släpps ett mystiskt virus lös\, och en efter en förvandlas p
 arkens djur till zombies. Den knasiga vargen Gracie och den griniga puman 
 Dan måste\, tillsammans med ett gäng oväntade och märkliga hjältar\, 
 rädda parken innan det är för sent - välkommen till zoopokalypsen!\n\n
 Gör dig redo för en natt du sent kommer att glömma i detta rysligt roli
 ga animerade äventyr!\n\n\n\n 	Regi - Ricardo Curtis\, Rodrigo Perez-Cas
 tro\n 	Speltid - 91 min\n 	Genre - Familjefilm\, Animerad film\n 	Ålder
 sgräns - Ej angivet\n 	Originaltitel - Night of Zoopocalypse\n 	Premiä
 rdatum - 2026-05-13\n 	Distributör - Lucky Dogs AB\n\n\n
ATTACH;FMTTYPE=image/jpeg:https://storumanlapland.se/wp-content/uploads/20
 26/04/EN-NATT-I-DJURPARKEN.png
CATEGORIES:Bio
LOCATION:Storumans Folkets Hus\, Blå Vägen 256\, Storuman\, Västerbotten
 s län\, 92331\, Lappland\, Sverige
GEO:65.10247282;17.12385841
X-APPLE-STRUCTURED-LOCATION;VALUE=URI;X-ADDRESS=Blå Vägen 256\, Storuman\
 , Västerbottens län\, 92331\, Lappland\, Sverige;X-APPLE-RADIUS=100;X-TI
 TLE=Storumans Folkets Hus:geo:65.10247282,17.12385841
END:VEVENT
BEGIN:VTIMEZONE
TZID:Europe/Stockholm
X-LIC-LOCATION:Europe/Stockholm
BEGIN:DAYLIGHT
DTSTART:20260329T030000
TZOFFSETFROM:+0100
TZOFFSETTO:+0200
TZNAME:CEST
END:DAYLIGHT
END:VTIMEZONE
END:VCALENDAR