BEGIN:VCALENDAR
VERSION:2.0
PRODID:-//wp-events-plugin.com//7.2.3.1//EN
TZID:Europe/Stockholm
X-WR-TIMEZONE:Europe/Stockholm
BEGIN:VEVENT
UID:890@storumanlapland.se
DTSTART;TZID=Europe/Stockholm:20251114T130000
DTEND;TZID=Europe/Stockholm:20251114T143000
DTSTAMP:20251104T094803Z
URL:https://storumanlapland.se/evenemang/biofilm-familiar-touch-2/
SUMMARY:Biofilm- Familiar Touch
DESCRIPTION:Familiar Touch följer Ruth\, en kvinna i 80-årsåldern som tv
 ingas flytta till ett äldreboende på grund av sin begynnande demens. Fil
 men skildrar hennes kamp med minnesförlust\, förändrad självbild och r
 elationen till sina vårdgivare\, i en gripande berättelse om åldrande o
 ch identitet.\n\nI rollerna\nKathleen Chalfant\, H. Jon Benjamin\, Rafael 
 Hernandez\n\n 	Regi - Sarah Friedland\n 	Speltid - 90 min\n 	Genre - Dr
 ama\n 	Åldersgräns - Ej angivet\n 	Originaltitel - Familiar Touch\n 	P
 remiärdatum - 2025-08-22\n 	Ljud - Digital 5.1\n
CATEGORIES:Bio
LOCATION:Storumans Folkets Hus\, Blå Vägen 256\, Storuman\, Västerbotten
 s län\, 92331\, Lappland\, Sverige
GEO:65.10247282;17.12385841
X-APPLE-STRUCTURED-LOCATION;VALUE=URI;X-ADDRESS=Blå Vägen 256\, Storuman\
 , Västerbottens län\, 92331\, Lappland\, Sverige;X-APPLE-RADIUS=100;X-TI
 TLE=Storumans Folkets Hus:geo:65.10247282,17.12385841
END:VEVENT
BEGIN:VTIMEZONE
TZID:Europe/Stockholm
X-LIC-LOCATION:Europe/Stockholm
BEGIN:STANDARD
DTSTART:20251026T020000
TZOFFSETFROM:+0200
TZOFFSETTO:+0100
TZNAME:CET
END:STANDARD
END:VTIMEZONE
END:VCALENDAR