BEGIN:VCALENDAR
VERSION:2.0
PRODID:-//wp-events-plugin.com//7.2.3.1//EN
TZID:Europe/Stockholm
X-WR-TIMEZONE:Europe/Stockholm
BEGIN:VEVENT
UID:1052@storumanlapland.se
DTSTART;TZID=Europe/Stockholm:20260510T190000
DTEND;TZID=Europe/Stockholm:20260510T211500
DTSTAMP:20260420T091733Z
URL:https://storumanlapland.se/evenemang/biofilm-fardetektiverna-2/
SUMMARY:Biofilm - Michael
DESCRIPTION:Michael är ett filmiskt porträtt av en av världens mest infl
 ytelserika artister någonsin\, av hans liv och det musikaliska arvet efte
 r honom.\n\nFilmen berättar historien om Michael Jacksons liv bortom musi
 ken. Den följer hans resa från upptäckten av hans enastående talang so
 m ledsångare i Jackson Five\, till skapandet av den visionära artist var
 s kreativa ambition drev honom till en skoningslös jakt efter att bli den
  största underhållaren i världen.\n\nMichael sätter strålkastarljuset
  både på hans liv utanför scenen och på några av de mest ikoniska fra
 mträdandena från hans tidiga solokarriär och låter publiken se och upp
 leva Michael Jackson som aldrig förut. Det är här hans historia börjar
 .\n\nI huvudrollerna ser vi Jaafar Jackson i sin filmdebut\, Nia Long (Emp
 ire\, The Best Man-franchiserna)\, Laura Harrier (BlacKkKlansman\, Spider-
 Man: Homecoming)\, och Juliano Krue Valdi (The Loud House\, Arco)\, med Mi
 les Teller (Top Gun: Maverick\, Whiplash) och tvåfaldigt Oscar®nominerad
 e Colman Domingo (Sing Sing\, Rustin).\n\nI rollerna\nJaafar Jackson\, Col
 man Domingo\, Nia Long\, Laura Harrier\, Juliano Krue Valdi\, Miles Teller
 \n\n 	Regi - Antoine Fuqua\n 	Speltid - 127 min\n 	Genre - Drama\, Musi
 k\n 	Åldersgräns - Från 11 år\n 	Originaltitel - Michael\n 	Premiär
 datum - 2026-04-22\n 	Distributör - UIP/Universal\n
ATTACH;FMTTYPE=image/jpeg:https://storumanlapland.se/wp-content/uploads/20
 26/04/Michael.png
CATEGORIES:Bio
LOCATION:Storumans Folkets Hus\, Blå Vägen 256\, Storuman\, Västerbotten
 s län\, 92331\, Lappland\, Sverige
GEO:65.10247282;17.12385841
X-APPLE-STRUCTURED-LOCATION;VALUE=URI;X-ADDRESS=Blå Vägen 256\, Storuman\
 , Västerbottens län\, 92331\, Lappland\, Sverige;X-APPLE-RADIUS=100;X-TI
 TLE=Storumans Folkets Hus:geo:65.10247282,17.12385841
END:VEVENT
BEGIN:VTIMEZONE
TZID:Europe/Stockholm
X-LIC-LOCATION:Europe/Stockholm
BEGIN:DAYLIGHT
DTSTART:20260329T030000
TZOFFSETFROM:+0100
TZOFFSETTO:+0200
TZNAME:CEST
END:DAYLIGHT
END:VTIMEZONE
END:VCALENDAR