BEGIN:VCALENDAR
VERSION:2.0
PRODID:-//wp-events-plugin.com//7.2.3.1//EN
TZID:Europe/Stockholm
X-WR-TIMEZONE:Europe/Stockholm
BEGIN:VEVENT
UID:1051@storumanlapland.se
DTSTART;TZID=Europe/Stockholm:20260510T140000
DTEND;TZID=Europe/Stockholm:20260510T153000
DTSTAMP:20260420T091533Z
URL:https://storumanlapland.se/evenemang/biofilm-fardetektiverna/
SUMMARY:Biofilm - Fårdetektiverna
DESCRIPTION:Filminformation\nI detta roliga och underhållande mysterium\, 
 som inte liknar något du sett tidigare\, är George (Hugh Jackman) en her
 de som varje kväll läser deckarromaner för sina älskade får\, i tron 
 att de omöjligt kan förstå. Men när en mystisk händelse stör livet p
 å gården inser fåren att de själva måste bli detektiver. När de föl
 jer ledtrådarna och undersöker mänskliga misstänkta bevisar de att äv
 en får kan vara briljanta brottslösare.\n\nFilmen är regisserad av Kyle
  Balda efter ett manus och en historia av Craig Mazin. Producenter är Lin
 dsay Doran\, Tim Bevan och Eric Fellner.\nI övriga roller ser vi Nicholas
  Braun\, Nicholas Galitzine\, Molly Gordon med Hong Chau och Emma Thompson
 \, Julia Louis-Dreyfus\, Bryan Cranston\, Chris O'Dowd\, Regina Hall\, Pat
 rick Stewart\, Bella Ramsey\, Brett Goldstein och Rhys Darby.\n\nI rollern
 a\nHugh Jackman\, Nicholaus Braun\, Nicholas Galitzine\, Emma Thompson\, J
 ulia Louis-Dreyfus\, Bryan Cranston\n\n 	Regi - Kyle Balda\n 	Speltid - 
 0 min\n 	Genre - Action\, Komedi\, Mysterie\n 	Åldersgräns - Ej angive
 t\n 	Originaltitel - The Sheep Detectives\n 	Premiärdatum - 2026-05-08\
 n 	Distributör - SF/Sony\n
ATTACH;FMTTYPE=image/jpeg:https://storumanlapland.se/wp-content/uploads/20
 26/04/Fardetektiverna.png
CATEGORIES:Bio
LOCATION:Storumans Folkets Hus\, Blå Vägen 256\, Storuman\, Västerbotten
 s län\, 92331\, Lappland\, Sverige
GEO:65.10247282;17.12385841
X-APPLE-STRUCTURED-LOCATION;VALUE=URI;X-ADDRESS=Blå Vägen 256\, Storuman\
 , Västerbottens län\, 92331\, Lappland\, Sverige;X-APPLE-RADIUS=100;X-TI
 TLE=Storumans Folkets Hus:geo:65.10247282,17.12385841
END:VEVENT
BEGIN:VTIMEZONE
TZID:Europe/Stockholm
X-LIC-LOCATION:Europe/Stockholm
BEGIN:DAYLIGHT
DTSTART:20260329T030000
TZOFFSETFROM:+0100
TZOFFSETTO:+0200
TZNAME:CEST
END:DAYLIGHT
END:VTIMEZONE
END:VCALENDAR