BEGIN:VCALENDAR
VERSION:2.0
PRODID:-//wp-events-plugin.com//7.2.3.1//EN
TZID:Europe/Stockholm
X-WR-TIMEZONE:Europe/Stockholm
BEGIN:VEVENT
UID:1053@storumanlapland.se
DTSTART;TZID=Europe/Stockholm:20260517T190000
DTEND;TZID=Europe/Stockholm:20260517T204500
DTSTAMP:20260420T091918Z
URL:https://storumanlapland.se/evenemang/biofilm-kraken/
SUMMARY:Biofilm - Kraken
DESCRIPTION:VÄRLDENS DJUPASTE FJORD DÖLJER NÅGOT STORT\n\nNär en by vid
  Sognefjorden drabbas av mystiska händelser skickas marinbiologen Johanne
  Berge dit för att undersöka. Märkliga naturfenomen\, hotfulla ljud fr
 ån djupet och en tragisk\, oförklarlig olycka väcker misstankar om att 
 något farligt hotar i Norges djupaste fjord. Som Johanne snart ska upptä
 cka har det mytiska KRAKEN - ett uråldrigt\, mångarmat monster - vaknat 
 och är redo att krossa allt som rör sig eller ger ifrån sig ett ljud…
 \n\nFrån den hyllade regissören Pål Øie (VILLMARK\, THE TUNNEL) kommer
  en banbrytande nordisk monsteractionfilm som garanterat kommer att fängs
 la\, skrämma och glädja biopubliken!\n\nI DJUPET VAKNAR KRAKEN\n\nI roll
 erna\nSara Khorami\, Mikkel Bratt Silset\, Øyvind Brandtzæg\n\n 	Regi -
  Pål Øie\n 	Speltid - 94 min\n 	Genre - Action\, Skräck\, Fantasy\n 	
 Åldersgräns - Från 15 år\n 	Originaltitel - Kraken\n 	Premiärdatum
  - 2026-05-01\n 	Hemsida - Klicka här\n 	IMDB - Klicka här\n
ATTACH;FMTTYPE=image/jpeg:https://storumanlapland.se/wp-content/uploads/20
 26/04/Kraken.png
CATEGORIES:Bio
LOCATION:Storumans Folkets Hus\, Blå Vägen 256\, Storuman\, Västerbotten
 s län\, 92331\, Lappland\, Sverige
GEO:65.10247282;17.12385841
X-APPLE-STRUCTURED-LOCATION;VALUE=URI;X-ADDRESS=Blå Vägen 256\, Storuman\
 , Västerbottens län\, 92331\, Lappland\, Sverige;X-APPLE-RADIUS=100;X-TI
 TLE=Storumans Folkets Hus:geo:65.10247282,17.12385841
END:VEVENT
BEGIN:VTIMEZONE
TZID:Europe/Stockholm
X-LIC-LOCATION:Europe/Stockholm
BEGIN:DAYLIGHT
DTSTART:20260329T030000
TZOFFSETFROM:+0100
TZOFFSETTO:+0200
TZNAME:CEST
END:DAYLIGHT
END:VTIMEZONE
END:VCALENDAR