BEGIN:VCALENDAR
VERSION:2.0
PRODID:-//wp-events-plugin.com//7.2.3.1//EN
TZID:Europe/Stockholm
X-WR-TIMEZONE:Europe/Stockholm
BEGIN:VEVENT
UID:628@storumanlapland.se
DTSTART;TZID=Europe/Stockholm:20241027T140000
DTEND;TZID=Europe/Stockholm:20241027T153000
DTSTAMP:20241021T154025Z
URL:https://storumanlapland.se/evenemang/biofilm-lassemajas-detektivbyra-m
 askoten-som-forsvann/
SUMMARY:Biofilm - LasseMajas detektivbyrå\, Maskoten som försvann
DESCRIPTION:Lasse och Maja är tillbaka med ett nytt spännande mysterium. 
 Inför de årliga Vallebyspelen skadas en efter en av de tävlande. Spåre
 n leder Lasse och Maja till en mörk hemlighet och en gammal myt om spelen
 s maskot som sägs hemsöka hallen. Kommer Lasse och Maja finna lösningen
  innan någon mer råkar illa ut och kommer deras vänskap överleva pröv
 ningarna?\n\nStöd för syntolkning\n\nI rollerna\nMario Mustafa\, Elma S
 äterhagen-Lekander\, Henrik Hjelt\, Cissi Forss\n\n 	Regi - Tina Mackic\
 n 	Speltid - 90 min\n 	Genre - Familjefilm\n 	Åldersgräns - Från 7 
 år\n
CATEGORIES:Bio
LOCATION:Storumans Folkets Hus\, Blå Vägen 256\, Storuman\, Västerbotten
 s län\, 92331\, Lappland\, Sverige
GEO:65.10247282;17.12385841
X-APPLE-STRUCTURED-LOCATION;VALUE=URI;X-ADDRESS=Blå Vägen 256\, Storuman\
 , Västerbottens län\, 92331\, Lappland\, Sverige;X-APPLE-RADIUS=100;X-TI
 TLE=Storumans Folkets Hus:geo:65.10247282,17.12385841
END:VEVENT
BEGIN:VTIMEZONE
TZID:Europe/Stockholm
X-LIC-LOCATION:Europe/Stockholm
BEGIN:STANDARD
DTSTART:20241027T020000
TZOFFSETFROM:+0200
TZOFFSETTO:+0100
TZNAME:CET
END:STANDARD
END:VTIMEZONE
END:VCALENDAR