BEGIN:VCALENDAR
VERSION:2.0
PRODID:-//wp-events-plugin.com//7.2.3.1//EN
TZID:Europe/Stockholm
X-WR-TIMEZONE:Europe/Stockholm
BEGIN:VEVENT
UID:1048@storumanlapland.se
DTSTART;TZID=Europe/Stockholm:20260426T140000
DTEND;TZID=Europe/Stockholm:20260426T153000
DTSTAMP:20260420T092626Z
URL:https://storumanlapland.se/evenemang/biofilm-mecenaten-2/
SUMMARY:Biofilm - Flåklypa Rally
DESCRIPTION:Filminformation\n&nbsp\;\n\n&nbsp\;\n\n 	Regi - Rasmus A. Sive
 rtsen\n 	Speltid - 82 min\n 	Genre - Familjefilm\, Animerad film\, Även
 tyr\, Barnfilm\n 	Åldersgräns - Barntillåten\n 	Originaltitel - Flåk
 lypa - Fra Paris til pyramidene\n 	Premiärdatum - 2026-04-24\n 	Hemsida
  - Klicka här\n 	IMDB - Klicka här\n 	Distributör - Njutafilms\n
ATTACH;FMTTYPE=image/jpeg:https://storumanlapland.se/wp-content/uploads/20
 26/04/flaklypa.png
CATEGORIES:Bio
LOCATION:Storumans Folkets Hus\, Blå Vägen 256\, Storuman\, Västerbotten
 s län\, 92331\, Lappland\, Sverige
GEO:65.10247282;17.12385841
X-APPLE-STRUCTURED-LOCATION;VALUE=URI;X-ADDRESS=Blå Vägen 256\, Storuman\
 , Västerbottens län\, 92331\, Lappland\, Sverige;X-APPLE-RADIUS=100;X-TI
 TLE=Storumans Folkets Hus:geo:65.10247282,17.12385841
END:VEVENT
BEGIN:VTIMEZONE
TZID:Europe/Stockholm
X-LIC-LOCATION:Europe/Stockholm
BEGIN:DAYLIGHT
DTSTART:20260329T030000
TZOFFSETFROM:+0100
TZOFFSETTO:+0200
TZNAME:CEST
END:DAYLIGHT
END:VTIMEZONE
END:VCALENDAR