BEGIN:VCALENDAR
VERSION:2.0
PRODID:-//wp-events-plugin.com//7.2.3.1//EN
TZID:Europe/Stockholm
X-WR-TIMEZONE:Europe/Stockholm
BEGIN:VEVENT
UID:1049@storumanlapland.se
DTSTART;TZID=Europe/Stockholm:20260426T190000
DTEND;TZID=Europe/Stockholm:20260426T211500
DTSTAMP:20260420T091105Z
URL:https://storumanlapland.se/evenemang/biofilm-mecenaten-3/
SUMMARY:Biofilm - The Mummy
DESCRIPTION:Filminformation\nEn familj stöter på en uråldrig mumie i den
 na nya tolkning av det klassiska monstret.\n\nI rollerna\nJack Reynor\, La
 ia Costa\, Hayat Kamille\, May Calamawy\, Veronica Falcón\n\n 	Regi - Le
 e Cronin\n 	Speltid - 134 min\n 	Genre - Skräck\n 	Åldersgräns - Fr
 ån 15 år\n 	Originaltitel - Lee Cronin's The Mummy\n 	Premiärdatum - 
 2026-04-17\n 	Ljud - Digital 7.1\n 	IMDB - Klicka här\n 	Distributör
  - Warner Bros. Entertainme\n
ATTACH;FMTTYPE=image/jpeg:https://storumanlapland.se/wp-content/uploads/20
 26/04/the-mummy.png
CATEGORIES:Bio
LOCATION:Storumans Folkets Hus\, Blå Vägen 256\, Storuman\, Västerbotten
 s län\, 92331\, Lappland\, Sverige
GEO:65.10247282;17.12385841
X-APPLE-STRUCTURED-LOCATION;VALUE=URI;X-ADDRESS=Blå Vägen 256\, Storuman\
 , Västerbottens län\, 92331\, Lappland\, Sverige;X-APPLE-RADIUS=100;X-TI
 TLE=Storumans Folkets Hus:geo:65.10247282,17.12385841
END:VEVENT
BEGIN:VTIMEZONE
TZID:Europe/Stockholm
X-LIC-LOCATION:Europe/Stockholm
BEGIN:DAYLIGHT
DTSTART:20260329T030000
TZOFFSETFROM:+0100
TZOFFSETTO:+0200
TZNAME:CEST
END:DAYLIGHT
END:VTIMEZONE
END:VCALENDAR