BEGIN:VCALENDAR
VERSION:2.0
PRODID:-//wp-events-plugin.com//7.2.3.1//EN
TZID:Europe/Stockholm
X-WR-TIMEZONE:Europe/Stockholm
BEGIN:VEVENT
UID:751@storumanlapland.se
DTSTART;TZID=Europe/Stockholm:20250525T190000
DTEND;TZID=Europe/Stockholm:20250525T210000
DTSTAMP:20250414T070951Z
URL:https://storumanlapland.se/evenemang/biofilm-mission-impossible/
SUMMARY:Biofilm - Mission impossible
DESCRIPTION:Alla val\, alla uppdrag\, har lett till det här.\n\nI rollerna
 \nTom Cruise\, Hayley Atwell\, Simon Pegg\, Ving Rhames\, Angela Bassett\,
  Vanessa Kirby\, Pom Klementieff\, Henry Czerny\, Esai Morales\, Shea Whig
 ham\n\n 	Regi - Christopher McQuarrie\n 	Speltid - 0 min\n 	Genre - Act
 ion\n 	Åldersgräns - Ej angivet\n
CATEGORIES:Bio
LOCATION:Storumans Folkets Hus\, Blå Vägen 256\, Storuman\, Västerbotten
 s län\, 92331\, Lappland\, Sverige
GEO:65.10247282;17.12385841
X-APPLE-STRUCTURED-LOCATION;VALUE=URI;X-ADDRESS=Blå Vägen 256\, Storuman\
 , Västerbottens län\, 92331\, Lappland\, Sverige;X-APPLE-RADIUS=100;X-TI
 TLE=Storumans Folkets Hus:geo:65.10247282,17.12385841
END:VEVENT
BEGIN:VTIMEZONE
TZID:Europe/Stockholm
X-LIC-LOCATION:Europe/Stockholm
BEGIN:DAYLIGHT
DTSTART:20250330T030000
TZOFFSETFROM:+0100
TZOFFSETTO:+0200
TZNAME:CEST
END:DAYLIGHT
END:VTIMEZONE
END:VCALENDAR