BEGIN:VCALENDAR
VERSION:2.0
PRODID:-//wp-events-plugin.com//7.2.3.1//EN
TZID:Europe/Stockholm
X-WR-TIMEZONE:Europe/Stockholm
BEGIN:VEVENT
UID:1010@storumanlapland.se
DTSTART;TZID=Europe/Stockholm:20260309T130000
DTEND;TZID=Europe/Stockholm:20260309T160000
DTSTAMP:20260220T083027Z
URL:https://storumanlapland.se/evenemang/biofilm-nurnberg-2/
SUMMARY:Biofilm - Nürnberg
DESCRIPTION:Strax efter andra världskriget får den amerikanske armépsyki
 atern Douglas Kelley (Rami Malek) i uppdrag att utvärdera Hermann Göring
  (Russell Crowe) och andra nazistledares mentala tillstånd inför de hist
 oriska Nürnbergprocesserna.\nNär han lär känna sina "patienter" hamnar
  Kelley i en psykologisk kraftmätning med Göring\, vars karisma och list
  blottlägger en skrämmande insikt: att vanliga människor kan begå ofat
 tbara illdåd.\n\nJames Vanderbilt står för manus och regi.\n\nI övriga
  roller ser vi Michael Shannon\, Richard E. Grant\, Leo Woodall\, John Sla
 ttery\, Mark O'Brien\, Colin Hanks\, Wrenn Schmidt\, Lydia Peckham\, Lotte
  Verbeek och Andreas Pietschmann.\n\nI rollerna\nRami Malek\, Russell Crow
 e\, Michael Shannon\, Richard E. Grant\n\n 	Regi - James Vanderbilt\n 	Sp
 eltid - 149 min\n 	Genre - Drama\, Thriller\n 	Åldersgräns - Från 15
  år\n 	Originaltitel - Nuremburg\n 	Premiärdatum - 2025-12-05\n 	Ljud
  - Digital 5.1\n 	Distributör - SF Studios\n
ATTACH;FMTTYPE=image/jpeg:https://storumanlapland.se/wp-content/uploads/20
 26/02/Nurnberg.png
CATEGORIES:Bio
LOCATION:Storumans Folkets Hus\, Blå Vägen 256\, Storuman\, Västerbotten
 s län\, 92331\, Lappland\, Sverige
GEO:65.10247282;17.12385841
X-APPLE-STRUCTURED-LOCATION;VALUE=URI;X-ADDRESS=Blå Vägen 256\, Storuman\
 , Västerbottens län\, 92331\, Lappland\, Sverige;X-APPLE-RADIUS=100;X-TI
 TLE=Storumans Folkets Hus:geo:65.10247282,17.12385841
END:VEVENT
BEGIN:VTIMEZONE
TZID:Europe/Stockholm
X-LIC-LOCATION:Europe/Stockholm
BEGIN:STANDARD
DTSTART:20251026T020000
TZOFFSETFROM:+0200
TZOFFSETTO:+0100
TZNAME:CET
END:STANDARD
END:VTIMEZONE
END:VCALENDAR