BEGIN:VCALENDAR
VERSION:2.0
PRODID:-//wp-events-plugin.com//7.2.3.1//EN
TZID:Europe/Stockholm
X-WR-TIMEZONE:Europe/Stockholm
BEGIN:VEVENT
UID:865@storumanlapland.se
DTSTART;TZID=Europe/Stockholm:20251116T190000
DTEND;TZID=Europe/Stockholm:20251116T214500
DTSTAMP:20251111T100937Z
URL:https://storumanlapland.se/evenemang/biofilm-one-battle-after-another/
SUMMARY:Biofilm- One battle After Another
DESCRIPTION:Från den Oscarsnominerade och BAFTA-belönade mästaren Paul T
 homas Anderson kommer årets mest explosiva filmupplevelse - One Battle Af
 ter Another.\n\nI huvudrollen ser vi Oscar- och BAFTA-vinnaren Leonardo Di
 Caprio som Bob Ferguson - en före detta revolutionsledare som trodde han 
 hade lämnat kampen bakom sig. Han lever i en drogdimma utanför samhälle
 t tillsammans med sin energiska och självständiga dotter Willa (Infiniti
 ). När hans onde ärkefiende (Penn) dyker upp igen efter 16 år och Willa
  försvinner\, tvingas den före detta upprorsmakaren ge sig ut för att h
 itta henne - far och dotter kämpar båda mot konsekvenserna av hans förf
 lutna.\n\nSexton år gamla konflikter blossar upp på nytt. En grupp split
 trade revolutionärer återförenas för ett sista\, desperat uppdrag - d
 är familj\, lojalitet och frihet står på spel.\n\nAnderson regisserar f
 rån sitt eget manus. Producenter är Oscar- och BAFTA-nominerade Adam Som
 ner och Sara Murphy samt Anderson själv\, med Will Weiske som exekutiv pr
 oducent.\n\nI rollerna\nLeonardo DiCaprio\, Benicio del Toro\, Sean Penn m
 edverkar\, tillsammans med Regina Hall\, Teyana Taylor\, Chase Infiniti\, 
 Wood Harris och Alana Haim.\n\n 	Regi - Paul Thomas Anderson\n 	Speltid 
 - 162 min\n 	Genre - Ej angivet\n 	Åldersgräns - Från 15 år\n 	Origi
 naltitel - One battle After Another\n 	Premiärdatum - 2025-09-26\n
CATEGORIES:Bio
LOCATION:Storumans Folkets Hus\, Blå Vägen 256\, Storuman\, Västerbotten
 s län\, 92331\, Lappland\, Sverige
GEO:65.10247282;17.12385841
X-APPLE-STRUCTURED-LOCATION;VALUE=URI;X-ADDRESS=Blå Vägen 256\, Storuman\
 , Västerbottens län\, 92331\, Lappland\, Sverige;X-APPLE-RADIUS=100;X-TI
 TLE=Storumans Folkets Hus:geo:65.10247282,17.12385841
END:VEVENT
BEGIN:VTIMEZONE
TZID:Europe/Stockholm
X-LIC-LOCATION:Europe/Stockholm
BEGIN:STANDARD
DTSTART:20251026T020000
TZOFFSETFROM:+0200
TZOFFSETTO:+0100
TZNAME:CET
END:STANDARD
END:VTIMEZONE
END:VCALENDAR