BEGIN:VCALENDAR
VERSION:2.0
PRODID:-//wp-events-plugin.com//7.2.3.1//EN
TZID:Europe/Stockholm
X-WR-TIMEZONE:Europe/Stockholm
BEGIN:VEVENT
UID:894@storumanlapland.se
DTSTART;TZID=Europe/Stockholm:20251130T190000
DTEND;TZID=Europe/Stockholm:20251130T203000
DTSTAMP:20251125T131513Z
URL:https://storumanlapland.se/evenemang/biofilm-predator-badlands/
SUMMARY:Biofilm - Predator Badlands
DESCRIPTION:Filminformation\n"Predator: Badlands\," med Elle Fanning och Di
 mitrius Schuster-Koloamatangi i huvudrollerna\, utspelar sig i framtiden p
 å en fjärran planet. Här finner en ung Predator\, utstött ur sin egen 
 klan\, en osannolik allierad i Thia (Fanning) och ger sig ut på en farofy
 lld resa i jakten på den ultimata motståndaren.\n\nFilmen är regisserad
  av Dan Trachtenberg och producerad av John Davis\, Dan Trachtenberg\, Mar
 c Toberoff\, Ben Rosenblatt och Brent O'Connor.\n\nI rollerna\nElle Fannin
 g\, Dimitrius Schuster-Koloamatangi\n\n 	Regi - Dan Trachtenberg\n 	Spelt
 id - 107 min\n 	Genre - Action\, Science Fiction\n 	Åldersgräns - Fr
 ån 15 år\n 	Originaltitel - Predator: Badlands\n 	Premiärdatum - 2025
 -11-05\n 	Ljud - Digital 7.1\n 	Distributör - Walt Disney\n
CATEGORIES:Bio
LOCATION:Storumans Folkets Hus\, Blå Vägen 256\, Storuman\, Västerbotten
 s län\, 92331\, Lappland\, Sverige
GEO:65.10247282;17.12385841
X-APPLE-STRUCTURED-LOCATION;VALUE=URI;X-ADDRESS=Blå Vägen 256\, Storuman\
 , Västerbottens län\, 92331\, Lappland\, Sverige;X-APPLE-RADIUS=100;X-TI
 TLE=Storumans Folkets Hus:geo:65.10247282,17.12385841
END:VEVENT
BEGIN:VTIMEZONE
TZID:Europe/Stockholm
X-LIC-LOCATION:Europe/Stockholm
BEGIN:STANDARD
DTSTART:20251026T020000
TZOFFSETFROM:+0200
TZOFFSETTO:+0100
TZNAME:CET
END:STANDARD
END:VTIMEZONE
END:VCALENDAR