BEGIN:VCALENDAR
VERSION:2.0
PRODID:-//wp-events-plugin.com//7.2.3.1//EN
TZID:Europe/Stockholm
X-WR-TIMEZONE:Europe/Stockholm
BEGIN:VEVENT
UID:943@storumanlapland.se
DTSTART;TZID=Europe/Stockholm:20260205T190000
DTEND;TZID=Europe/Stockholm:20260205T204500
DTSTAMP:20260112T130018Z
URL:https://storumanlapland.se/evenemang/biofilm-rental-family/
SUMMARY:Biofilm - Rental Family
DESCRIPTION:Filmen\, som utspelar sig i dagens Tokyo\, följer en amerikans
 k skådespelare (Brendan Fraser) som kämpar för att hitta ett syfte till
 s han får ett ovanligt jobb: en tjänst hos en japansk "hyrfamilj"-agentu
 r\, där han ska spela stand-in för främlingar. När han dyker in i sina
  klienters världar börjar han bilda äkta band som suddar ut gränserna 
 mellan skådespel och verklighet. Han ställs inför de moraliska förveck
 lingar som jobbet medför och upptäcker samtidigt mening\, tillhörighet 
 och den tysta skönheten i mänskliga relationer.\n\nSearchlight Pictures 
 presenterar RENTAL FAMILY\, regisserad\, medskriven och producerad av HIKA
 RI ("Beef"\, "Tokyo Vice"\, 37 Seconds).\n\nI huvudrollen ser vi Academy A
 ward®- och Screen Actors Guild-vinnaren Brendan Fraser (The Whale\, The M
 ummy\, Encino Man) med biroller av bland andra Emmy®-nominerade Takehiro 
 Hira ("Shogun")\, Mari Yamamoto ("Pachinko\," "Monarch: Legacy of Monsters
 ")\, Akira Emoto (Lovers Lost\, Shin Godzilla\, Dr. Akagi) och nykomlingen
  Shannon Gorman.\n\nManus är skrivet av HIKARI och Stephen Blahut (37 Sec
 onds) och filmen är producerad av Sight Unseen Pictures Julia Lebedev (De
 ar White People\, Bad Education) och Eddie Vaisman (Wildlife\, A Thousand 
 and One)\, såväl som Knockonwoods Shin Yamaguchi (37 Seconds\, Spirit Wo
 rld). Jennifer Semler (A Real Pain\, Theater Camp)\, Tomo Koizumi\, Blahut
 \, Leonid Lebedev (Bad Education)\, Fraser och Oren Moverman (The Messenge
 r\, Love &amp\; Mercy) är exekutiva producenter.\n\nTillsammans med filmm
 akaren HIKARI finns bakom kameran filmfotograf Takurô Ishizaka (All of Us
  Strangers\, Snake Eyes)\, produktionsdesigner Norihiro Asoda (The Blind S
 wordsman: Zatoichi) och Masako Takayama ("Tokyo Vice")\, redigerare Alan B
 aumgarten och Thomas A. Kruger\, kompositörerna Jónsi och Alex Somers\, 
 kostymör Meg Mochizuki (37 Seconds)\, chef för makeup Hiromi Momose (Lik
 e Father\, Like Son) och rollsättare Kei Kawamura och Yumi Takada.
CATEGORIES:Bio
LOCATION:Storumans Folkets Hus\, Blå Vägen 256\, Storuman\, Västerbotten
 s län\, 92331\, Lappland\, Sverige
GEO:65.10247282;17.12385841
X-APPLE-STRUCTURED-LOCATION;VALUE=URI;X-ADDRESS=Blå Vägen 256\, Storuman\
 , Västerbottens län\, 92331\, Lappland\, Sverige;X-APPLE-RADIUS=100;X-TI
 TLE=Storumans Folkets Hus:geo:65.10247282,17.12385841
END:VEVENT
BEGIN:VTIMEZONE
TZID:Europe/Stockholm
X-LIC-LOCATION:Europe/Stockholm
BEGIN:STANDARD
DTSTART:20251026T020000
TZOFFSETFROM:+0200
TZOFFSETTO:+0100
TZNAME:CET
END:STANDARD
END:VTIMEZONE
END:VCALENDAR