BEGIN:VCALENDAR
VERSION:2.0
PRODID:-//wp-events-plugin.com//7.2.3.1//EN
TZID:Europe/Stockholm
X-WR-TIMEZONE:Europe/Stockholm
BEGIN:VEVENT
UID:1054@storumanlapland.se
DTSTART;TZID=Europe/Stockholm:20260518T130000
DTEND;TZID=Europe/Stockholm:20260518T150000
DTSTAMP:20260420T092047Z
URL:https://storumanlapland.se/evenemang/biofilm-saltstigen/
SUMMARY:Biofilm - Saltstigen
DESCRIPTION:När allt är förlorat kan du lika gärna fortsätta framåt.\
 n\nNär paret Ray och Moth får ett allvarligt sjukdomsbesked och samtidig
 t förlorar sitt hem rasar hela deras tillvaro samman. Men ur katastrofen 
 växer ett beslut fram. De ger sig ut på en nära hundra mil lång vandri
 ng längs Englands karga sydkust - en sträcka som präglas av storslagen 
 natur och saltstänkta vindar. Utsatta för hårt väder\, smärta och ovi
 sshet tvingas de ompröva både sin relation och vad det egentligen inneb
 är att ha ett hem. Det blir en resa där varje steg är livsavgörande.\n
 \nGillian Anderson och Jason Isaacs är rena naturkrafter i denna gripande
  och inspirerande berättelse. Saltstigen bygger på den bästsäljande bo
 ken om ett par som försöker hitta sin plats i tillvaron när deras liv h
 ar slagits i spillror. I stället för att ge upp ger de sig ut på en van
 dring som förändrar dem för alltid.\n\nI rollerna\nGillian Anderson\, D
 enis Lill\, Jason Isaacs\, Rebecca Ineson\, Tucker St. Ivany\, m fl\n\n 	R
 egi - Marianne Elliott\n 	Speltid - 115 min\n 	Genre - Drama\, Feel-goo
 d\n 	Åldersgräns - Från 7 år\n 	Originaltitel - The Salt Path\n 	Pre
 miärdatum - 2026-05-08\n 	Ljud - Digital 5.1\n 	Hemsida - Klicka här
 \n 	IMDB - Klicka här\n 	Facebook - Klicka här\n 	Distributör - Tr
 iArt Film AB\n\n\n 	\n
ATTACH;FMTTYPE=image/jpeg:https://storumanlapland.se/wp-content/uploads/20
 26/04/Skarmbild-2026-04-20-111858.png
CATEGORIES:Bio
LOCATION:Storumans Folkets Hus\, Blå Vägen 256\, Storuman\, Västerbotten
 s län\, 92331\, Lappland\, Sverige
GEO:65.10247282;17.12385841
X-APPLE-STRUCTURED-LOCATION;VALUE=URI;X-ADDRESS=Blå Vägen 256\, Storuman\
 , Västerbottens län\, 92331\, Lappland\, Sverige;X-APPLE-RADIUS=100;X-TI
 TLE=Storumans Folkets Hus:geo:65.10247282,17.12385841
END:VEVENT
BEGIN:VTIMEZONE
TZID:Europe/Stockholm
X-LIC-LOCATION:Europe/Stockholm
BEGIN:DAYLIGHT
DTSTART:20260329T030000
TZOFFSETFROM:+0100
TZOFFSETTO:+0200
TZNAME:CEST
END:DAYLIGHT
END:VTIMEZONE
END:VCALENDAR