BEGIN:VCALENDAR
VERSION:2.0
PRODID:-//wp-events-plugin.com//7.2.3.1//EN
TZID:Europe/Stockholm
X-WR-TIMEZONE:Europe/Stockholm
BEGIN:VEVENT
UID:1009@storumanlapland.se
DTSTART;TZID=Europe/Stockholm:20260301T190000
DTEND;TZID=Europe/Stockholm:20260301T210000
DTSTAMP:20260220T083118Z
URL:https://storumanlapland.se/evenemang/biofilm-scream-7/
SUMMARY:Biofilm - Scream 7
DESCRIPTION:När en ny Ghostface-mördare dyker upp i den stillsamma stad d
 är Sidney Prescott (Neve Campbell) har byggt upp ett nytt liv\, väcks he
 nnes värsta rädslor till liv - särskilt när hennes dotter (Isabel May)
  blir nästa måltavla.\nFast besluten att skydda sin familj tvingas Sidne
 y konfrontera sitt skräckfyllda förflutna - en gång för alla - för at
 t sätta stopp för blodbadet.\n\nFilmen är regisserad av Kevin Williamso
 n. I övriga roller ser vi Courtney Cox\, Mason Gooding\, Mckenna Grace oc
 h David Arquette.\n\nI rollerna\nNeve Campbell Isabel May Courtney Cox\n\n
  	Regi - Kevin Williamson\n 	Speltid - 114 min\n 	Genre - Skräck\n 	Å
 ldersgräns - Från 15 år\n 	Originaltitel - Scream 7\n 	Premiärdatum
  - 2026-02-25\n 	Distributör - SF Studios\n
ATTACH;FMTTYPE=image/jpeg:https://storumanlapland.se/wp-content/uploads/20
 26/02/Scream-7.png
CATEGORIES:Bio
LOCATION:Storumans Folkets Hus\, Blå Vägen 256\, Storuman\, Västerbotten
 s län\, 92331\, Lappland\, Sverige
GEO:65.10247282;17.12385841
X-APPLE-STRUCTURED-LOCATION;VALUE=URI;X-ADDRESS=Blå Vägen 256\, Storuman\
 , Västerbottens län\, 92331\, Lappland\, Sverige;X-APPLE-RADIUS=100;X-TI
 TLE=Storumans Folkets Hus:geo:65.10247282,17.12385841
END:VEVENT
BEGIN:VTIMEZONE
TZID:Europe/Stockholm
X-LIC-LOCATION:Europe/Stockholm
BEGIN:STANDARD
DTSTART:20251026T020000
TZOFFSETFROM:+0200
TZOFFSETTO:+0100
TZNAME:CET
END:STANDARD
END:VTIMEZONE
END:VCALENDAR