BEGIN:VCALENDAR
VERSION:2.0
PRODID:-//wp-events-plugin.com//7.2.3.1//EN
TZID:Europe/Stockholm
X-WR-TIMEZONE:Europe/Stockholm
BEGIN:VEVENT
UID:605@storumanlapland.se
DTSTART;TZID=Europe/Stockholm:20240922T190000
DTEND;TZID=Europe/Stockholm:20240922T214500
DTSTAMP:20240920T183938Z
URL:https://storumanlapland.se/evenemang/biofilm-sirocco-och-vindarnas-rik
 e-2/
SUMMARY:Biofilm - Beetlejuice
DESCRIPTION:Filminformation\nBeetlejuice är tillbaka! Den Oscarsnominerade
 \, kreativa visionären Tim Burton och den Oscarsnominerade stjärnan Mich
 ael Keaton återförenas för Beetlejuice Beetlejuice - den efterlängtade
  uppföljaren till Burtons prisbelönta film Beetlejuice.\n\nEfter en ovä
 ntad familjetragedi återvänder tre generationer av Deetz-familjen hem ti
 ll Winter River. Fortfarande hemsökt av Beetlejuice vänds Lydias liv upp
  och ner när hennes rebelliska tonårsdotter Astrid upptäcker den mystis
 ka modellen av staden på vinden och porten till livet efter detta öppnas
  av misstag. När problem uppstår i båda världarna är det bara en tids
 fråga innan någon säger Beetlejuices namn tre gånger och den skojfrisk
 a demonen återvänder för att släppa loss sin alldeles egna form av fö
 rödelse.\n\nKeaton återvänder till sin ikoniska roll tillsammans med Os
 carsnominerade Winona Ryder som Lydia Deetz och den tvåfaldigt Emmy-vinna
 ren Catherine O'Hara som Delia Deetz. Nya medlemmar i ensemblen är Justin
  Theroux\, Monica Bellucci\, Arthur Conti i hans långfilmsdebut\, Emmy-no
 minerade Jenna Ortega som Lydias dotter Astrid och Oscarsnominerade Willem
  Dafoe.\n\nI rollerna\nJenna Ortega\, Willem Dafoe\, Monica Bellucci\, Cat
 herine O'Hara\, Winona Ryder\, Michael Keaton\, Justin Theroux\n\n 	Regi 
 - Tim Burton\n 	Speltid - 105 min\n 	Genre - Ej angivet\n 	Åldersgräns
  - Från 11 år\n
CATEGORIES:Bio
LOCATION:Storumans Folkets Hus\, Blå Vägen 256\, Storuman\, Västerbotten
 s län\, 92331\, Lappland\, Sverige
GEO:65.10247282;17.12385841
X-APPLE-STRUCTURED-LOCATION;VALUE=URI;X-ADDRESS=Blå Vägen 256\, Storuman\
 , Västerbottens län\, 92331\, Lappland\, Sverige;X-APPLE-RADIUS=100;X-TI
 TLE=Storumans Folkets Hus:geo:65.10247282,17.12385841
END:VEVENT
BEGIN:VTIMEZONE
TZID:Europe/Stockholm
X-LIC-LOCATION:Europe/Stockholm
BEGIN:DAYLIGHT
DTSTART:20240331T030000
TZOFFSETFROM:+0100
TZOFFSETTO:+0200
TZNAME:CEST
END:DAYLIGHT
END:VTIMEZONE
END:VCALENDAR