BEGIN:VCALENDAR
VERSION:2.0
PRODID:-//wp-events-plugin.com//7.2.3.1//EN
TZID:Europe/Stockholm
X-WR-TIMEZONE:Europe/Stockholm
BEGIN:VEVENT
UID:932@storumanlapland.se
DTSTART;TZID=Europe/Stockholm:20260111T190000
DTEND;TZID=Europe/Stockholm:20260111T203000
DTSTAMP:20251224T213209Z
URL:https://storumanlapland.se/evenemang/biofilm-sisu-road-to-revenge/
SUMMARY:Biofilm - SISU: ROAD TO REVENGE
DESCRIPTION:ROAD TO REVENGE är action från början till slut och uppfölj
 aren till biosuccén SISU.\n\nNär "mannen som vägrar dö" (Jorma Tommila
 ) återvänder till huset där hans familj brutalt mördades under kriget\
 , monterar han ner och lastar det på en lastbil för att bygga upp det ig
 en på en säker plats.\nMen när den hänsynslöse Röda armé-befälhava
 ren som dödade hans familj (Stephen Lang från Don't Breathe) återvände
 r\, fast besluten att avsluta jobbet\, exploderar en hänsynslös jakt tv
 ärs över landet. Det blir en kamp på liv och död - fylld med spektakul
 ära\, oväntade och galna actionscener som måste upplevas på bioduken.\
 n\nJalmari Helander står för manus och regi. Producenter är Mike Goodri
 dge och Petri Jokiranta.\n\n&nbsp\;\n\n 	Regi - Jalmari Helander\n 	Spelt
 id - 90 min\n 	Genre - Action\n 	Åldersgräns - Från 15 år\n 	Origin
 altitel - Sisu: Road to Revenge\n 	Premiärdatum - 2025-11-21\n 	Distrib
 utör - SF/Sony\n
CATEGORIES:Bio
LOCATION:Storumans Folkets Hus\, Blå Vägen 256\, Storuman\, Västerbotten
 s län\, 92331\, Lappland\, Sverige
GEO:65.10247282;17.12385841
X-APPLE-STRUCTURED-LOCATION;VALUE=URI;X-ADDRESS=Blå Vägen 256\, Storuman\
 , Västerbottens län\, 92331\, Lappland\, Sverige;X-APPLE-RADIUS=100;X-TI
 TLE=Storumans Folkets Hus:geo:65.10247282,17.12385841
END:VEVENT
BEGIN:VTIMEZONE
TZID:Europe/Stockholm
X-LIC-LOCATION:Europe/Stockholm
BEGIN:STANDARD
DTSTART:20251026T020000
TZOFFSETFROM:+0200
TZOFFSETTO:+0100
TZNAME:CET
END:STANDARD
END:VTIMEZONE
END:VCALENDAR