BEGIN:VCALENDAR
VERSION:2.0
PRODID:-//wp-events-plugin.com//7.2.3.1//EN
TZID:Europe/Stockholm
X-WR-TIMEZONE:Europe/Stockholm
BEGIN:VEVENT
UID:1011@storumanlapland.se
DTSTART;TZID=Europe/Stockholm:20260319T180000
DTEND;TZID=Europe/Stockholm:20260319T210000
DTSTAMP:20260220T083256Z
URL:https://storumanlapland.se/evenemang/biofilm-svenska-revyn/
SUMMARY:Biofilm - Svenska Revyn
DESCRIPTION:Efter utsålda och bejublade säsonger på Scalateatern i Stock
 holm är det äntligen dags för Henrik Dorsins Svenska revyn att visas p
 å bio i Sverige. Premiär 4 februari.\n\nDär Henrik Dorsins förra stors
 uccé Scalarevyn tog avstamp i den gamla svenska revyformen inspireras ist
 ället detta nyskrivna spektakel av nationalromantik\, folkkultur och sven
 ska värderingar. Föreställningen har i all svensk enkelhet fått namnet
  Svenska revyn.\n\nI rollerna\nHenrik Dorsin\, Vanna Rosenberg\, Johan Ulv
 eson\, Annika Granlund Jonsson\, Andreas Grube\, Emmalisa Hallander\, Denn
 is Quintero\, Sofia Jung\, Per Ekdahl\, Per Texas Johansson\, Martin Ho¨p
 er\, Lisa Bodelius\, Josefin Runsteen\, Vladan Wirant\n\n 	Regi - Henrik 
 Dorsin\, Anna Ståhl\n 	Speltid - 180 min\n 	Genre - Komedi\, Musik\, Te
 ater\n 	Åldersgräns - Ej angivet\n 	Originaltitel - Svenska Revyn\n 	P
 remiärdatum - 2026-02-04\n
ATTACH;FMTTYPE=image/jpeg:https://storumanlapland.se/wp-content/uploads/20
 26/02/Svenska-revyn.png
CATEGORIES:Bio
LOCATION:Storumans Folkets Hus\, Blå Vägen 256\, Storuman\, Västerbotten
 s län\, 92331\, Lappland\, Sverige
GEO:65.10247282;17.12385841
X-APPLE-STRUCTURED-LOCATION;VALUE=URI;X-ADDRESS=Blå Vägen 256\, Storuman\
 , Västerbottens län\, 92331\, Lappland\, Sverige;X-APPLE-RADIUS=100;X-TI
 TLE=Storumans Folkets Hus:geo:65.10247282,17.12385841
END:VEVENT
BEGIN:VTIMEZONE
TZID:Europe/Stockholm
X-LIC-LOCATION:Europe/Stockholm
BEGIN:STANDARD
DTSTART:20251026T020000
TZOFFSETFROM:+0200
TZOFFSETTO:+0100
TZNAME:CET
END:STANDARD
END:VTIMEZONE
END:VCALENDAR