BEGIN:VCALENDAR
VERSION:2.0
PRODID:-//wp-events-plugin.com//7.2.3.1//EN
TZID:Europe/Stockholm
X-WR-TIMEZONE:Europe/Stockholm
BEGIN:VEVENT
UID:868@storumanlapland.se
DTSTART;TZID=Europe/Stockholm:20251127T190000
DTEND;TZID=Europe/Stockholm:20251127T211500
DTSTAMP:20251111T101208Z
URL:https://storumanlapland.se/evenemang/biofilm-the-conjuring-last-rites/
SUMMARY:Biofilm - The Conjuring: Last Rites
DESCRIPTION:Nu kommer den nionde\, och sista\, delen i det framgångsrika C
 onjuring-universumet: "The Conjuring: Last Rites"\, regisserad av franchis
 ens veteran Michael Chaves och producerad av seriens skapare James Wan och
  Peter Safran.\n\n"The Conjuring: Last Rites" bjuder på ännu ett skräck
 fyllt kapitel i det ikoniska Conjuring-universumet\, baserat på verkliga 
 händelser.\n\nSkådespelarna Vera Farmiga och Patrick Wilson återförena
 s för ett sista fall som de världsberömda paranormala utredarna Ed och 
 Lorraine Warren\, i ett kraftfullt och kusligt tillskott till denna global
 a succéserie.\n\nI rollerna\nVera Farmiga\, Patrick Wilson\, Madison Lawl
 or\, Mia Tomlinson och Ben Hardy\, Steve Coulter\n\n 	Regi - Michael Chav
 es\n 	Speltid - 135 min\n 	Genre - Thriller\, Skräck\, Mysterie\n 	Åld
 ersgräns - Från 15 år\n 	Originaltitel - The Conjuring: Last Rites\n 
 	Premiärdatum - 2025-09-05\n
CATEGORIES:Bio
LOCATION:Storumans Folkets Hus\, Blå Vägen 256\, Storuman\, Västerbotten
 s län\, 92331\, Lappland\, Sverige
GEO:65.10247282;17.12385841
X-APPLE-STRUCTURED-LOCATION;VALUE=URI;X-ADDRESS=Blå Vägen 256\, Storuman\
 , Västerbottens län\, 92331\, Lappland\, Sverige;X-APPLE-RADIUS=100;X-TI
 TLE=Storumans Folkets Hus:geo:65.10247282,17.12385841
END:VEVENT
BEGIN:VTIMEZONE
TZID:Europe/Stockholm
X-LIC-LOCATION:Europe/Stockholm
BEGIN:STANDARD
DTSTART:20251026T020000
TZOFFSETFROM:+0200
TZOFFSETTO:+0100
TZNAME:CET
END:STANDARD
END:VTIMEZONE
END:VCALENDAR