BEGIN:VCALENDAR
VERSION:2.0
PRODID:-//wp-events-plugin.com//7.2.3.1//EN
TZID:Europe/Stockholm
X-WR-TIMEZONE:Europe/Stockholm
BEGIN:VEVENT
UID:602@storumanlapland.se
DTSTART;TZID=Europe/Stockholm:20240915T190000
DTEND;TZID=Europe/Stockholm:20240915T210000
DTSTAMP:20240821T092356Z
URL:https://storumanlapland.se/evenemang/biofilm-the-crow/
SUMMARY:Biofilm - The Crow
DESCRIPTION:Filminformation\nBill Skarsgård tar sig an den ikoniska rollen
  som THE CROW i denna moderna filmatisering av James O'Barrs grafiska roma
 n. De två älskande själsfränderna Eric Draven (Bill Skarsgård) och Sh
 elly Webster (FKA twigs) mördas brutalt när demoner från hennes mörka 
 förflutna kommer ikapp dem. Eric ges chansen att rädda sin stora kärlek
  genom att offra sig själv och beger sig iväg för att söka skoningslö
 s hämnd på deras mördare. Han korsar de levandes och de dödas världar
  för att ställa allt tillrätta.\n\nI rollerna\nBill Skarsgård\, FKA Tw
 igs\, Danny Huston\, Jordan Bolger\, Laura Birn\, Isabella Wei\, Sami Boua
 jila\, David Bowles\n\n 	Regi - Rupert Sanders\n 	Speltid - 111 min\n 	G
 enre - Action\, Thriller\, Fantasy\n 	Åldersgräns - Från 15 år\n
CATEGORIES:Bio
LOCATION:Storumans Folkets Hus\, Blå Vägen 256\, Storuman\, Västerbotten
 s län\, 92331\, Lappland\, Sverige
GEO:65.10247282;17.12385841
X-APPLE-STRUCTURED-LOCATION;VALUE=URI;X-ADDRESS=Blå Vägen 256\, Storuman\
 , Västerbottens län\, 92331\, Lappland\, Sverige;X-APPLE-RADIUS=100;X-TI
 TLE=Storumans Folkets Hus:geo:65.10247282,17.12385841
END:VEVENT
BEGIN:VTIMEZONE
TZID:Europe/Stockholm
X-LIC-LOCATION:Europe/Stockholm
BEGIN:DAYLIGHT
DTSTART:20240331T030000
TZOFFSETFROM:+0100
TZOFFSETTO:+0200
TZNAME:CEST
END:DAYLIGHT
END:VTIMEZONE
END:VCALENDAR