BEGIN:VCALENDAR
VERSION:2.0
PRODID:-//wp-events-plugin.com//7.2.3.1//EN
TZID:Europe/Stockholm
X-WR-TIMEZONE:Europe/Stockholm
BEGIN:VEVENT
UID:1050@storumanlapland.se
DTSTART;TZID=Europe/Stockholm:20260507T190000
DTEND;TZID=Europe/Stockholm:20260507T210000
DTSTAMP:20260420T091345Z
URL:https://storumanlapland.se/evenemang/biofilm-the-drama/
SUMMARY:Biofilm - The Drama
DESCRIPTION:Filminformation\nEtt lyckligt förlovat par sätts på prov nä
 r en oväntad vändning får deras bröllopsvecka att spåra ur.\n\nI roll
 erna\nZendaya\, Robert Pattinson\, Alana Haim\n\n 	Regi - Kristoffer Borg
 li\n 	Speltid - 106 min\n 	Genre - Drama\, Komedi\, Romantik\n 	Åldersg
 räns - Från 11 år\n 	Originaltitel - The Drama\n 	Premiärdatum - 20
 26-04-01\n 	Distributör - Nordisk Film AB\n
ATTACH;FMTTYPE=image/jpeg:https://storumanlapland.se/wp-content/uploads/20
 26/04/The-drama.png
CATEGORIES:Bio
LOCATION:Storumans Folkets Hus\, Blå Vägen 256\, Storuman\, Västerbotten
 s län\, 92331\, Lappland\, Sverige
GEO:65.10247282;17.12385841
X-APPLE-STRUCTURED-LOCATION;VALUE=URI;X-ADDRESS=Blå Vägen 256\, Storuman\
 , Västerbottens län\, 92331\, Lappland\, Sverige;X-APPLE-RADIUS=100;X-TI
 TLE=Storumans Folkets Hus:geo:65.10247282,17.12385841
END:VEVENT
BEGIN:VTIMEZONE
TZID:Europe/Stockholm
X-LIC-LOCATION:Europe/Stockholm
BEGIN:DAYLIGHT
DTSTART:20260329T030000
TZOFFSETFROM:+0100
TZOFFSETTO:+0200
TZNAME:CEST
END:DAYLIGHT
END:VTIMEZONE
END:VCALENDAR