BEGIN:VCALENDAR
VERSION:2.0
PRODID:-//wp-events-plugin.com//7.2.3.1//EN
TZID:Europe/Stockholm
X-WR-TIMEZONE:Europe/Stockholm
BEGIN:VEVENT
UID:1055@storumanlapland.se
DTSTART;TZID=Europe/Stockholm:20260521T190000
DTEND;TZID=Europe/Stockholm:20260521T211500
DTSTAMP:20260420T092224Z
URL:https://storumanlapland.se/evenemang/biofilm-the-star-wars-mandalorian
 -and-grogu/
SUMMARY:Biofilm - The Star Wars Mandalorian and Grogu
DESCRIPTION:Det onda Imperiet har fallit och kejserliga krigsherrar är for
 tfarande utspridda i galaxen. Den nyfödda Nya Republiken arbetar för att
  skydda allt Rebellalliansen kämpade för och har tagit hjälp av den leg
 endariska mandaloriska prisjägaren Din Djarin (Pedro Pascal) och hans ung
 a lärling Grogu. "Star Wars: The Mandalorian and Grogu" är regisserad av
  Jon Favreau och i en av huvudrollerna ser vi även Sigourney Weaver. Film
 en är producerad av Jon Favreau\, Kathleen Kennedy\, Dave Filoni och Ian 
 Bryce\, med musik komponerad av Ludwig Göransson.\n\nI rollerna\nPedro Pa
 scal\, Jeremy Allen White\, Sigourney Weaver\n\n 	Regi - John Favreau\n 	
 Speltid - 131 min\n 	Genre - Science Fiction\n 	Åldersgräns - Ej angi
 vet\n 	Originaltitel - The Mandalorian and Grogu\n 	Premiärdatum - 2026
 -05-20\n 	Ljud - Digital 7.1\n 	IMDB - Klicka här\n 	Distributör - W
 alt Disney\n\n\n 	\n
ATTACH;FMTTYPE=image/jpeg:https://storumanlapland.se/wp-content/uploads/20
 26/04/Mandalorian.png
CATEGORIES:Bio
LOCATION:Storumans Folkets Hus\, Blå Vägen 256\, Storuman\, Västerbotten
 s län\, 92331\, Lappland\, Sverige
GEO:65.10247282;17.12385841
X-APPLE-STRUCTURED-LOCATION;VALUE=URI;X-ADDRESS=Blå Vägen 256\, Storuman\
 , Västerbottens län\, 92331\, Lappland\, Sverige;X-APPLE-RADIUS=100;X-TI
 TLE=Storumans Folkets Hus:geo:65.10247282,17.12385841
END:VEVENT
BEGIN:VTIMEZONE
TZID:Europe/Stockholm
X-LIC-LOCATION:Europe/Stockholm
BEGIN:DAYLIGHT
DTSTART:20260329T030000
TZOFFSETFROM:+0100
TZOFFSETTO:+0200
TZNAME:CEST
END:DAYLIGHT
END:VTIMEZONE
END:VCALENDAR