BEGIN:VCALENDAR
VERSION:2.0
PRODID:-//wp-events-plugin.com//7.2.3.1//EN
TZID:Europe/Stockholm
X-WR-TIMEZONE:Europe/Stockholm
BEGIN:VEVENT
UID:1057@storumanlapland.se
DTSTART;TZID=Europe/Stockholm:20260528T190000
DTEND;TZID=Europe/Stockholm:20260528T194500
DTSTAMP:20260420T092415Z
URL:https://storumanlapland.se/evenemang/biofilm-topp-3/
SUMMARY:Biofilm - Topp 3
DESCRIPTION:&nbsp\;\n\n 	Anton faller handlöst för David\, men tvingas in
 se att hans drömmar om framtiden står i kollisionskurs med Davids drömm
 ar.\n\nI rollerna\nEric Ernerstedt\, Jonas Jonsson\, Caroline Johansson Ku
 hmunen\n\n 	Regi - Sofie Edvardsson\n 	Speltid - 44 min\n 	Genre - Anim
 erad film\n 	Åldersgräns - Ej angivet\n 	Originaltitel - Topp 3\n 	Pre
 miärdatum - 2019-12-21\n 	Hemsida - Klicka här\n 	IMDB - Klicka hä
 r\n 	Distributör - Folkets Bio AB\n\n\n
ATTACH;FMTTYPE=image/jpeg:https://storumanlapland.se/wp-content/uploads/20
 26/04/topp-3.png
CATEGORIES:Bio
LOCATION:Storumans Folkets Hus\, Blå Vägen 256\, Storuman\, Västerbotten
 s län\, 92331\, Lappland\, Sverige
GEO:65.10247282;17.12385841
X-APPLE-STRUCTURED-LOCATION;VALUE=URI;X-ADDRESS=Blå Vägen 256\, Storuman\
 , Västerbottens län\, 92331\, Lappland\, Sverige;X-APPLE-RADIUS=100;X-TI
 TLE=Storumans Folkets Hus:geo:65.10247282,17.12385841
END:VEVENT
BEGIN:VTIMEZONE
TZID:Europe/Stockholm
X-LIC-LOCATION:Europe/Stockholm
BEGIN:DAYLIGHT
DTSTART:20260329T030000
TZOFFSETFROM:+0100
TZOFFSETTO:+0200
TZNAME:CEST
END:DAYLIGHT
END:VTIMEZONE
END:VCALENDAR