BEGIN:VCALENDAR
VERSION:2.0
PRODID:-//wp-events-plugin.com//7.2.3.1//EN
TZID:Europe/Stockholm
X-WR-TIMEZONE:Europe/Stockholm
BEGIN:VEVENT
UID:600@storumanlapland.se
DTSTART;TZID=Europe/Stockholm:20240901T190000
DTEND;TZID=Europe/Stockholm:20240901T204500
DTSTAMP:20240821T092130Z
URL:https://storumanlapland.se/evenemang/biofilm-trap/
SUMMARY:Biofilm - Trap
DESCRIPTION:Filminformation\nI Trap får vi följa hur en far och en tonår
 sdotter går på en popkonsert\, där de inser att de befinner sig i centr
 um för en mörk och ondskefull händelse.\n\nWarner Bros. Pictures presen
 terar en ny upplevelse i M. Night Shayamalans värld - "Trap" - med framtr
 ädanden av den stigande musikstjärnan Saleka Shyamalan.\n\nI rollerna\nJ
 osh Hartnett\, Hayley Mills\, Marnie McPhail\n\n 	Regi - M. Night Shyamal
 an\n 	Speltid - 106 min\n 	Genre - Thriller\n 	Åldersgräns - Från 15
  år\n
CATEGORIES:Bio
LOCATION:Storumans Folkets Hus\, Blå Vägen 256\, Storuman\, Västerbotten
 s län\, 92331\, Lappland\, Sverige
GEO:65.10247282;17.12385841
X-APPLE-STRUCTURED-LOCATION;VALUE=URI;X-ADDRESS=Blå Vägen 256\, Storuman\
 , Västerbottens län\, 92331\, Lappland\, Sverige;X-APPLE-RADIUS=100;X-TI
 TLE=Storumans Folkets Hus:geo:65.10247282,17.12385841
END:VEVENT
BEGIN:VTIMEZONE
TZID:Europe/Stockholm
X-LIC-LOCATION:Europe/Stockholm
BEGIN:DAYLIGHT
DTSTART:20240331T030000
TZOFFSETFROM:+0100
TZOFFSETTO:+0200
TZNAME:CEST
END:DAYLIGHT
END:VTIMEZONE
END:VCALENDAR