BEGIN:VCALENDAR
VERSION:2.0
PRODID:-//wp-events-plugin.com//7.2.3.1//EN
TZID:Europe/Stockholm
X-WR-TIMEZONE:Europe/Stockholm
BEGIN:VEVENT
UID:866@storumanlapland.se
DTSTART;TZID=Europe/Stockholm:20251120T190000
DTEND;TZID=Europe/Stockholm:20251120T210000
DTSTAMP:20251111T101044Z
URL:https://storumanlapland.se/evenemang/biofilm-tron-ares/
SUMMARY:Biofilm- Tron: Ares
DESCRIPTION:"TRON: Ares" följer det högteknologiska programmet Ares\, som
  skickas från den digitala världen till vår egen på ett livsfarligt up
 pdrag - ett uppdrag som blir början på mänsklighetens första möte med
  AI.\n\nI rollerna\nArturo Castro\, Gillian Anderson\, Jared Leto\n\n 	Reg
 i - Joakim Rønning\n 	Speltid - 0 min\n 	Genre - Science Fiction\n 	Å
 ldersgräns - Ej angivet\n 	Originaltitel - Tron: Ares\n 	Premiärdatum
  - 2025-10-08\n 	Ljud - Digital 7.1\n 	IMDB - Klicka här\n 	Distribut
 ör - Walt Disney\n
CATEGORIES:Bio
LOCATION:Storumans Folkets Hus\, Blå Vägen 256\, Storuman\, Västerbotten
 s län\, 92331\, Lappland\, Sverige
GEO:65.10247282;17.12385841
X-APPLE-STRUCTURED-LOCATION;VALUE=URI;X-ADDRESS=Blå Vägen 256\, Storuman\
 , Västerbottens län\, 92331\, Lappland\, Sverige;X-APPLE-RADIUS=100;X-TI
 TLE=Storumans Folkets Hus:geo:65.10247282,17.12385841
END:VEVENT
BEGIN:VTIMEZONE
TZID:Europe/Stockholm
X-LIC-LOCATION:Europe/Stockholm
BEGIN:STANDARD
DTSTART:20251026T020000
TZOFFSETFROM:+0200
TZOFFSETTO:+0100
TZNAME:CET
END:STANDARD
END:VTIMEZONE
END:VCALENDAR