BEGIN:VCALENDAR
VERSION:2.0
PRODID:-//wp-events-plugin.com//7.2.3.1//EN
TZID:Europe/Stockholm
X-WR-TIMEZONE:Europe/Stockholm
BEGIN:VEVENT
UID:641@storumanlapland.se
DTSTART;TZID=Europe/Stockholm:20241201T190000
DTEND;TZID=Europe/Stockholm:20241201T203000
DTSTAMP:20241022T092322Z
URL:https://storumanlapland.se/evenemang/biofilm-vaiana-2-2/
SUMMARY:Biofilm - Vaiana 2
DESCRIPTION:Ett oväntat meddelande från Vaianas förfäder inleder ett ä
 ventyr på Oceaniens avlägsna hav som inte liknar något hon någonsin m
 ött.\n\n&nbsp\;\n\n 	Regi - Dave Derrick Jr\n 	Speltid - 0 min\n 	Genre
  - Animerad familjefilm\n 	Åldersgräns - Ej angivet\n 	Originaltitel 
 - Vaiana 2\n 	Premiärdatum - 2024-11-29\n 	Ljud - Digital 7.1\n 	Distri
 butör - Walt Disney\n
CATEGORIES:Bio
LOCATION:Storumans Folkets Hus\, Blå Vägen 256\, Storuman\, Västerbotten
 s län\, 92331\, Lappland\, Sverige
GEO:65.10247282;17.12385841
X-APPLE-STRUCTURED-LOCATION;VALUE=URI;X-ADDRESS=Blå Vägen 256\, Storuman\
 , Västerbottens län\, 92331\, Lappland\, Sverige;X-APPLE-RADIUS=100;X-TI
 TLE=Storumans Folkets Hus:geo:65.10247282,17.12385841
END:VEVENT
BEGIN:VTIMEZONE
TZID:Europe/Stockholm
X-LIC-LOCATION:Europe/Stockholm
BEGIN:STANDARD
DTSTART:20241027T020000
TZOFFSETFROM:+0200
TZOFFSETTO:+0100
TZNAME:CET
END:STANDARD
END:VTIMEZONE
END:VCALENDAR