BEGIN:VCALENDAR
VERSION:2.0
PRODID:-//wp-events-plugin.com//7.2.3.1//EN
TZID:Europe/Stockholm
X-WR-TIMEZONE:Europe/Stockholm
BEGIN:VEVENT
UID:891@storumanlapland.se
DTSTART;TZID=Europe/Stockholm:20251112T183000
DTEND;TZID=Europe/Stockholm:20251112T200000
DTSTAMP:20251111T092841Z
URL:https://storumanlapland.se/evenemang/cafekvall-med-forelasning/
SUMMARY:Cafékväll med föreläsning
DESCRIPTION:Veckans Cafékväll bjuder in till en föreläsning med Irja Wi
 kström (tidigare Forsman)! Irja delar med sig av sina erfarenheter av psy
 kisk ohälsa – både ur ett personligt perspektiv och utifrån sitt arbe
 te med att möta människor som lever med psykisk ohälsa.Hon berättar om
  sin uppväxt i Storuman och reflekterar över hur det är att växa upp i
  ett mindre samhälle med ångest och depression. Hur påverkar arv och mi
 ljö oss? Vad vet vi egentligen om varandra – i en by där ”alla känn
 er alla”?Föreläsningen belyser både utmaningarna och styrkorna i gles
 bygden\, med fokus på medmänsklighet och hur vi kan stötta varandra nä
 r livet känns svårt.12 november kl. 18.30 på Aktiviteten.Välkommen 
CATEGORIES:Café och Restaurang,Kultur
LOCATION:Aktiviteten\, Skolgatan 23\, 923 31 Storuman\, Storuman\, Västerb
 ottens län\, 92331\, Sverige
GEO:65.096253;17.115044
X-APPLE-STRUCTURED-LOCATION;VALUE=URI;X-ADDRESS=Skolgatan 23\, 923 31 Storu
 man\, Storuman\, Västerbottens län\, 92331\, Sverige;X-APPLE-RADIUS=100;
 X-TITLE=Aktiviteten:geo:65.096253,17.115044
END:VEVENT
BEGIN:VTIMEZONE
TZID:Europe/Stockholm
X-LIC-LOCATION:Europe/Stockholm
BEGIN:STANDARD
DTSTART:20251026T020000
TZOFFSETFROM:+0200
TZOFFSETTO:+0100
TZNAME:CET
END:STANDARD
END:VTIMEZONE
END:VCALENDAR