BEGIN:VCALENDAR
VERSION:2.0
PRODID:-//wp-events-plugin.com//7.2.3.1//EN
TZID:Europe/Stockholm
X-WR-TIMEZONE:Europe/Stockholm
BEGIN:VEVENT
UID:780@storumanlapland.se
DTSTART;TZID=Europe/Stockholm:20250531T001200
DTEND;TZID=Europe/Stockholm:20250531T160000
DTSTAMP:20250526T185653Z
URL:https://storumanlapland.se/evenemang/cafelordag-pa-shangri-la/
SUMMARY:Cafélördag på Shangri-La
DESCRIPTION:Nu börjar det grönska på allvar här i Stensele. Så nu kän
 ns det att det är dags för ett vårsommar-café hos oss på kulturcafée
 t.Vi tänker oss våriga smaker som rabarber\, jordgubbar och egenodlade g
 röna\, nyttiga blad. Och mycket annat.Varmt välkomna!Vi längtar efter e
 r alla.Lördag den 31 maj kl 12.00-16.00.Visst ses vi?
CATEGORIES:Café och Restaurang
LOCATION:Kulturcafé Shangri-La\, Blå Vägen 43\, Stensele\, Västerbotten
 \, 92341\, Lappland\, Sverige
GEO:65.0647078;17.15994082
X-APPLE-STRUCTURED-LOCATION;VALUE=URI;X-ADDRESS=Blå Vägen 43\, Stensele\,
  Västerbotten\, 92341\, Lappland\, Sverige;X-APPLE-RADIUS=100;X-TITLE=Kul
 turcafé Shangri-La:geo:65.0647078,17.15994082
END:VEVENT
BEGIN:VTIMEZONE
TZID:Europe/Stockholm
X-LIC-LOCATION:Europe/Stockholm
BEGIN:DAYLIGHT
DTSTART:20250330T030000
TZOFFSETFROM:+0100
TZOFFSETTO:+0200
TZNAME:CEST
END:DAYLIGHT
END:VTIMEZONE
END:VCALENDAR