BEGIN:VCALENDAR
VERSION:2.0
PRODID:-//wp-events-plugin.com//7.2.3.1//EN
TZID:Europe/Stockholm
X-WR-TIMEZONE:Europe/Stockholm
BEGIN:VEVENT
UID:765@storumanlapland.se
DTSTART;TZID=Europe/Stockholm:20250525T120000
DTEND;TZID=Europe/Stockholm:20250525T170000
DTSTAMP:20250417T111629Z
URL:https://storumanlapland.se/evenemang/fira-mor-med-afternoon-tea-pa-uts
 ikten/
SUMMARY:Fira Mor med Afternoon Tea på Utsikten
DESCRIPTION:\nIdag firar vi mor med ett riktigt mysigt och gott Afternoon T
 ea\,\nDet finns två sittningar att boka kl 12 och kl 15\n\nAfternoon Tea 
 är inte bara godsaker att äta utan även en stund att skämma bort sig s
 jälv.\nAvnjutes utan stress med vackert kakfat\, i en harmonisk och tillt
 alande miljö.\nVarje sittning varar i 90 minuter\nDu bokar via mail eller
  sms och får en bekräftelse på din bokning\,\nom du behöver avboka gö
 r du det kostnadsfritt senast 24 timmar innan\n\nOBS! Endast bokade platse
 r \, inget drop-in-fika idag\,\n\nKontakta oss för bokning på info@utsik
 tenstoruman.se eller 070-276 15 66
CATEGORIES:Café och Restaurang
LOCATION:Utsikten Café\, Utsiktsvägen 1 / Björn Ferrys väg\, Storuman\,
  Västerbotten\, 92331\, Lappland\, Sverige
GEO:65.08647432;17.13603251
X-APPLE-STRUCTURED-LOCATION;VALUE=URI;X-ADDRESS=Utsiktsvägen 1 / Björn Fe
 rrys väg\, Storuman\, Västerbotten\, 92331\, Lappland\, Sverige;X-APPLE-
 RADIUS=100;X-TITLE=Utsikten Café:geo:65.08647432,17.13603251
END:VEVENT
BEGIN:VTIMEZONE
TZID:Europe/Stockholm
X-LIC-LOCATION:Europe/Stockholm
BEGIN:DAYLIGHT
DTSTART:20250330T030000
TZOFFSETFROM:+0100
TZOFFSETTO:+0200
TZNAME:CEST
END:DAYLIGHT
END:VTIMEZONE
END:VCALENDAR