BEGIN:VCALENDAR
VERSION:2.0
PRODID:-//wp-events-plugin.com//7.2.3.1//EN
TZID:Europe/Stockholm
X-WR-TIMEZONE:Europe/Stockholm
BEGIN:VEVENT
UID:1006@storumanlapland.se
DTSTART;TZID=Europe/Stockholm:20260225T183000
DTEND;TZID=Europe/Stockholm:20260225T193000
DTSTAMP:20260218T104935Z
URL:https://storumanlapland.se/evenemang/forelasning-om-solel-laddboxar-oc
 h-ai-styrda-batterier/
SUMMARY:Föreläsning om solel\, laddboxar och AI-styrda batterier
DESCRIPTION:Kom och lyssna på Lars Andrén \, en av Sveriges mest anlitade
  föreläsare\, som kommer att prata om soleneregi och energilagring. Unde
 r kvällen kommer Lars att informera om det senaste kring solel och batter
 ier och vad som är viktigt att tänka på inför en investering. Han komm
 er även att prata om solvärme i kombination med vedeldning.\n\n&nbsp\;\n
 \n
ATTACH;FMTTYPE=image/jpeg:https://storumanlapland.se/wp-content/uploads/20
 26/02/affisch.jpg
LOCATION:Aktiviteten\, Skolgatan 23\, 923 31 Storuman\, Storuman\, Västerb
 ottens län\, 92331\, Sverige
GEO:65.096253;17.115044
X-APPLE-STRUCTURED-LOCATION;VALUE=URI;X-ADDRESS=Skolgatan 23\, 923 31 Storu
 man\, Storuman\, Västerbottens län\, 92331\, Sverige;X-APPLE-RADIUS=100;
 X-TITLE=Aktiviteten:geo:65.096253,17.115044
END:VEVENT
BEGIN:VTIMEZONE
TZID:Europe/Stockholm
X-LIC-LOCATION:Europe/Stockholm
BEGIN:STANDARD
DTSTART:20251026T020000
TZOFFSETFROM:+0200
TZOFFSETTO:+0100
TZNAME:CET
END:STANDARD
END:VTIMEZONE
END:VCALENDAR