BEGIN:VCALENDAR
VERSION:2.0
PRODID:-//wp-events-plugin.com//7.2.3.1//EN
TZID:Europe/Stockholm
X-WR-TIMEZONE:Europe/Stockholm
BEGIN:VEVENT
UID:495@storumanlapland.se
DTSTART;TZID=Europe/Stockholm:20240417T183000
DTEND;TZID=Europe/Stockholm:20240417T200000
DTSTAMP:20240320T104138Z
URL:https://storumanlapland.se/evenemang/forelasning-om-tradgardsdesign-me
 d-emma-ershag/
SUMMARY:Föreläsning om Trädgårdsdesign med Emma Ershag
DESCRIPTION:Emma Ershag\, trädgårdsingenjör föreläser om att skapa bä
 ttre mikroklimat i din trädgård\nVälkommen att lyssna på Emma Ershag\,
  Trädgårdsingenjör\, och lär dig hur du kan få ett bättre mikroklima
 t i din trädgård.\nHur kan du skapa miljöer i trädgården som gynnar v
 äxterna och håller kvar värmen lite längre?\n
CATEGORIES:Kultur
END:VEVENT
BEGIN:VTIMEZONE
TZID:Europe/Stockholm
X-LIC-LOCATION:Europe/Stockholm
BEGIN:DAYLIGHT
DTSTART:20240331T030000
TZOFFSETFROM:+0100
TZOFFSETTO:+0200
TZNAME:CEST
END:DAYLIGHT
END:VTIMEZONE
END:VCALENDAR