BEGIN:VCALENDAR
VERSION:2.0
PRODID:-//wp-events-plugin.com//7.2.3.1//EN
TZID:Europe/Stockholm
X-WR-TIMEZONE:Europe/Stockholm
BEGIN:VEVENT
UID:1012@storumanlapland.se
DTSTART;TZID=Europe/Stockholm:20260220T190000
DTEND;TZID=Europe/Stockholm:20260220T220000
DTSTAMP:20260220T142158Z
URL:https://storumanlapland.se/evenemang/fredagskvall-i-umanbacken/
SUMMARY:Fredagskväll i Umanbacken
DESCRIPTION:\n-Vi riggar ljud/musikanläggning\n-Vi bjuder på grillad falu
 körv\n-Skattjakt i backen\n15 skatter är hemligt utplacerade.\n\n\n-För
  er som inte vill åka skidor riggar vi ett ”Mini-FG” med sällskapssp
 el mm. inne i värmestugan…\n\n\nVÄLKOMMEN\n\n
ATTACH;FMTTYPE=image/jpeg:https://storumanlapland.se/wp-content/uploads/20
 26/02/umanbacken.jpg
CATEGORIES:Motion,Nöje
END:VEVENT
BEGIN:VTIMEZONE
TZID:Europe/Stockholm
X-LIC-LOCATION:Europe/Stockholm
BEGIN:STANDARD
DTSTART:20251026T020000
TZOFFSETFROM:+0200
TZOFFSETTO:+0100
TZNAME:CET
END:STANDARD
END:VTIMEZONE
END:VCALENDAR