BEGIN:VCALENDAR
VERSION:2.0
PRODID:-//wp-events-plugin.com//7.2.3.1//EN
TZID:Europe/Stockholm
X-WR-TIMEZONE:Europe/Stockholm
BEGIN:VEVENT
UID:722@storumanlapland.se
DTSTART;TZID=Europe/Stockholm:20250321T170000
DTEND;TZID=Europe/Stockholm:20250321T234500
DTSTAMP:20250227T164100Z
URL:https://storumanlapland.se/evenemang/garagekalas-o-kovallberg/
SUMMARY:Garagekalas i Kovallberg
DESCRIPTION:Välkommen till Garagekalas hos oss på Kovallberg Trävaror.\n
 \nFredag den 21/3 kl 17.00- 24.00\n\nTillsammans med GIK och Utsikten bjud
 er vi in till en trevlig kväll.\n\nUtsikten Serverar en wook på lokalpro
 ducerat kött med sås och bröd.\n\nGunnarns IK serverar öl\,vin och cid
 er i baren.\n\nDuon Matte &amp\; Fia underhåller. https://www.facebook.co
 m/MatteochFia/\n\nBarn i målsmans sällskap är givetvis välkommna.\n\nV
 ill du åka buss?\n\nFrån Storuman kl: 16.10 eller 18.00\nFrån Kovallber
 g ca kl: 19.06 - 19.56 och 22.51\n&nbsp\;\n\n&nbsp\;\n\n&nbsp\;\n\n&nbsp\;
CATEGORIES:Nöje
END:VEVENT
BEGIN:VTIMEZONE
TZID:Europe/Stockholm
X-LIC-LOCATION:Europe/Stockholm
BEGIN:STANDARD
DTSTART:20241027T020000
TZOFFSETFROM:+0200
TZOFFSETTO:+0100
TZNAME:CET
END:STANDARD
END:VTIMEZONE
END:VCALENDAR