BEGIN:VCALENDAR
VERSION:2.0
PRODID:-//wp-events-plugin.com//7.2.3.1//EN
TZID:Europe/Stockholm
X-WR-TIMEZONE:Europe/Stockholm
BEGIN:VEVENT
UID:622@storumanlapland.se
DTSTART;TZID=Europe/Stockholm:20241101T220000
DTEND;TZID=Europe/Stockholm:20241102T020000
DTSTAMP:20241009T093315Z
URL:https://storumanlapland.se/evenemang/halloween-pa-hotell-toppen/
SUMMARY:Halloween - på Hotell Toppen
DESCRIPTION:DJ Joe Hanzen spelar 22-02.\n\nFörköp 200kr\, vid dörren 250
 kr OBS! Begränsat antal platser\n\nVälkommen!
ATTACH;FMTTYPE=image/jpeg:https://storumanlapland.se/wp-content/uploads/20
 24/10/freestocks-kVv8AvoKJ7g-unsplash-scaled.jpg
CATEGORIES:Nöje
LOCATION:Hotell Toppen\, Blå Vägen 238\, Storuman \, Sverige
GEO:65.094794;17.115434
X-APPLE-STRUCTURED-LOCATION;VALUE=URI;X-ADDRESS=Blå Vägen 238\, Storuman 
 \, Sverige;X-APPLE-RADIUS=100;X-TITLE=Hotell Toppen:geo:65.094794,17.11543
 4
END:VEVENT
BEGIN:VTIMEZONE
TZID:Europe/Stockholm
X-LIC-LOCATION:Europe/Stockholm
BEGIN:STANDARD
DTSTART:20241027T020000
TZOFFSETFROM:+0200
TZOFFSETTO:+0100
TZNAME:CET
END:STANDARD
END:VTIMEZONE
END:VCALENDAR