BEGIN:VCALENDAR
VERSION:2.0
PRODID:-//wp-events-plugin.com//7.2.3.1//EN
TZID:Europe/Stockholm
X-WR-TIMEZONE:Europe/Stockholm
BEGIN:VEVENT
UID:994@storumanlapland.se
DTSTART;TZID=Europe/Stockholm:20260206T100000
DTEND;TZID=Europe/Stockholm:20260207T160000
DTSTAMP:20260129T143037Z
URL:https://storumanlapland.se/evenemang/hantverksdagarna/
SUMMARY:Hantverksdagarna
DESCRIPTION:FREDAG 6/2 kl. 16.00 - 21.00\, Aktiviteten Storuman\nArrangöre
 r: Storuman Fritid\,\nABF Storuman\, Biblioteket\nGARNFÖRSÄLJNING med Al
 ohyddans garn från Lycksele!\nUtställning / visning av olika alster (med
  bl.a. ABFs handarbetsgrupp)\nHantverkshelgen startar upp med HANDARBETSMA
 RATON kl. 16-21!\nSticka/virka/handarbeta med eget material och umgås i t
 revlig samvaro tillsammans\nmed andra hantverksintresserade\, kom då du v
 ill och delta så länge du vill. Passa på att utbyta\nerfarenheter och t
 a gärna med egna alster du har gjort för att visa och inspirera andra.\n
 \nLÖRDAG 7/2 kl. 10.00 - 16.00\, Aktiviteten Storuman\nHantverkshelgen fo
 rtsätter med HANDARBETSCAFÉ hela dagen!\nSticka/virka/handarbeta med ege
 t material och umgås i trevlig samvaro tillsammans\nmed andra hantverksin
 tresserade\, kom då du vill och delta så länge du vill. Passa på att u
 tbyta\nerfarenheter och ta gärna med egna alster du har gjort för att vi
 sa och inspirera andra.\nGARNFÖRSÄLJNING med Alohyddans garn från Lycks
 ele!\nUtställning / visning av olika alster (med bl.a. ABFs handarbetsgru
 pp)\n\nKl. 10.00-16.00 HANDARBETSCAFÉ håller på hela dagen\nKl. 10.00 M
 ELODIKRYSSET för den som vill\nKl. 11.15 Workshop - Lär dig sticka en BL
 OMSTERBÅRD (spets)\nLär dig sticka en dekorativ blomsterbård som ser ut
  som spets med Monica Sundström. Dekorativt\npå t ex sockar\, mössor\, 
 tröjor mm. Ta gärna med en stickning du påbörjat lite. Fungerar både 
 med att\nsticka runt och slätt. Med fördel\, ta med ett garn i avvikande
  färg för bården. Anmälan sker på plats.\nKl. 13.00 Workshop - Lär d
 ig virka HEXAGONRUTOR\nmed Rebecca Sundström. Medtag gärna egen virknål
  och garn\,\nnågra ex. finns att låna. Anmälan sker på plats\nKl. 15.0
 0-15.45 TIPSRUNDA med priser\nValfritt att delta\, prisutdelning ca 15.45
ATTACH;FMTTYPE=image/jpeg:https://storumanlapland.se/wp-content/uploads/20
 26/01/Hantverksdagar-program-9.jpg
LOCATION:Aktiviteten\, Skolgatan 23\, 923 31 Storuman\, Storuman\, Västerb
 ottens län\, 92331\, Sverige
GEO:65.096253;17.115044
X-APPLE-STRUCTURED-LOCATION;VALUE=URI;X-ADDRESS=Skolgatan 23\, 923 31 Storu
 man\, Storuman\, Västerbottens län\, 92331\, Sverige;X-APPLE-RADIUS=100;
 X-TITLE=Aktiviteten:geo:65.096253,17.115044
END:VEVENT
BEGIN:VTIMEZONE
TZID:Europe/Stockholm
X-LIC-LOCATION:Europe/Stockholm
BEGIN:STANDARD
DTSTART:20251026T020000
TZOFFSETFROM:+0200
TZOFFSETTO:+0100
TZNAME:CET
END:STANDARD
END:VTIMEZONE
END:VCALENDAR