BEGIN:VCALENDAR
VERSION:2.0
PRODID:-//wp-events-plugin.com//7.2.3.1//EN
TZID:Europe/Stockholm
X-WR-TIMEZONE:Europe/Stockholm
BEGIN:VEVENT
UID:696@storumanlapland.se
DTSTART;TZID=Europe/Stockholm:20250207T170000
DTEND;TZID=Europe/Stockholm:20250207T190000
DTSTAMP:20250204T205152Z
URL:https://storumanlapland.se/evenemang/hotell-toppen-after-work-korvmoj/
SUMMARY:Hotell Toppen - After Work Korvmoj
DESCRIPTION:Kom ihåg att gärna boka bord :-)
CATEGORIES:Café och Restaurang
LOCATION:Hotell Toppen\, Blå Vägen 238\, Storuman \, Sverige
GEO:65.094794;17.115434
X-APPLE-STRUCTURED-LOCATION;VALUE=URI;X-ADDRESS=Blå Vägen 238\, Storuman 
 \, Sverige;X-APPLE-RADIUS=100;X-TITLE=Hotell Toppen:geo:65.094794,17.11543
 4
END:VEVENT
BEGIN:VTIMEZONE
TZID:Europe/Stockholm
X-LIC-LOCATION:Europe/Stockholm
BEGIN:STANDARD
DTSTART:20241027T020000
TZOFFSETFROM:+0200
TZOFFSETTO:+0100
TZNAME:CET
END:STANDARD
END:VTIMEZONE
END:VCALENDAR