BEGIN:VCALENDAR
VERSION:2.0
PRODID:-//wp-events-plugin.com//7.2.3.1//EN
TZID:Europe/Stockholm
X-WR-TIMEZONE:Europe/Stockholm
BEGIN:VEVENT
UID:886@storumanlapland.se
DTSTART;TZID=Europe/Stockholm;VALUE=DATE:20251129
DTEND;TZID=Europe/Stockholm;VALUE=DATE:20251130
DTSTAMP:20251127T124909Z
URL:https://storumanlapland.se/evenemang/julmarknad-stensele-3/
SUMMARY:Julmarknad - Stensele
DESCRIPTION:Välkomna till julmarknad i Stensele nu på lördag den 29/11.\
 nKlockan 11.00 öppnar vi upp lokalerna på Blåkupan. Du kan fika inne\, 
 köpa klämmackor ute vid grillen\, handla av försäljare ute och inne.\n
 Klockan 14.00 kommer jultomten med något till barnen.\n#stensele #stensel
 ehembygdsförening #julmarknad #marknadsförsäljning #jul2025 #hantverk #
 tunnbröd #stickat #flätat #pysslat #vävt #jultomten #fika #klämmacka
ATTACH;FMTTYPE=image/jpeg:https://storumanlapland.se/wp-content/uploads/20
 22/09/Julmarknad-stensele.jpg
CATEGORIES:Marknad
LOCATION:Blå Kupan Stensele\, Bygdevägen 3\, Stensele\, Västerbottens l
 än\, 92341\, Lappland\, Sverige
GEO:65.06596772;17.15550224
X-APPLE-STRUCTURED-LOCATION;VALUE=URI;X-ADDRESS=Bygdevägen 3\, Stensele\, 
 Västerbottens län\, 92341\, Lappland\, Sverige;X-APPLE-RADIUS=100;X-TITL
 E=Blå Kupan Stensele:geo:65.06596772,17.15550224
END:VEVENT
BEGIN:VTIMEZONE
TZID:Europe/Stockholm
X-LIC-LOCATION:Europe/Stockholm
BEGIN:STANDARD
DTSTART:20251026T020000
TZOFFSETFROM:+0200
TZOFFSETTO:+0100
TZNAME:CET
END:STANDARD
END:VTIMEZONE
END:VCALENDAR