BEGIN:VCALENDAR
VERSION:2.0
PRODID:-//wp-events-plugin.com//7.2.3.1//EN
TZID:Europe/Stockholm
X-WR-TIMEZONE:Europe/Stockholm
BEGIN:VEVENT
UID:766@storumanlapland.se
DTSTART;TZID=Europe/Stockholm:20250507T180000
DTEND;TZID=Europe/Stockholm:20250507T210000
DTSTAMP:20250417T112134Z
URL:https://storumanlapland.se/evenemang/ladies-night-2025/
SUMMARY:Ladies Night 2025
DESCRIPTION:Är du kvinna och företagare eller företagsledare? Vi skapar 
 våra egna möjligheter att bo där vi vill och jobba med det vi älskar a
 tt göra.\nVälkommen till en kväll för kvinnor som driver och/eller har
  ledande ställning i företag på landsbygd. Föreläsningar och samtal m
 ed temat "Vi skapar landsbygdens arbetsmarknad". Erfarenhetsutbyte om hur 
 vi får företagen och privatekonomin att gå runt när vi gör det vi bri
 nner för.\n\nTid: 7 maj klockan 18.00 på Hotell Toppen\n\nMiddag - Ming
 el - Föreläsningar - Panelsamtal\n\nMer information här\; Ladies Night 
 2025
CATEGORIES:Upplevelse
LOCATION:Hotell Toppen\, Blå Vägen 238\, Storuman \, Sverige
GEO:65.094794;17.115434
X-APPLE-STRUCTURED-LOCATION;VALUE=URI;X-ADDRESS=Blå Vägen 238\, Storuman 
 \, Sverige;X-APPLE-RADIUS=100;X-TITLE=Hotell Toppen:geo:65.094794,17.11543
 4
END:VEVENT
BEGIN:VTIMEZONE
TZID:Europe/Stockholm
X-LIC-LOCATION:Europe/Stockholm
BEGIN:DAYLIGHT
DTSTART:20250330T030000
TZOFFSETFROM:+0100
TZOFFSETTO:+0200
TZNAME:CEST
END:DAYLIGHT
END:VTIMEZONE
END:VCALENDAR