BEGIN:VCALENDAR
VERSION:2.0
PRODID:-//wp-events-plugin.com//7.2.3.1//EN
TZID:Europe/Stockholm
X-WR-TIMEZONE:Europe/Stockholm
BEGIN:VEVENT
UID:1030@storumanlapland.se
DTSTART;TZID=Europe/Stockholm:20260311T183000
DTEND;TZID=Europe/Stockholm:20260311T200000
DTSTAMP:20260309T093946Z
URL:https://storumanlapland.se/evenemang/lars-jonas-upptrader-pa-cafekvall
 en/
SUMMARY:Lars-Jonas uppträder på Cafékvällen
DESCRIPTION:Artisten och underhållaren från Noice Makers uppträder på C
 afékvällen onsdag 11 mars\n\nCaféet är öppet med gott fika\n\nVarmt v
 älkomna!
ATTACH;FMTTYPE=image/jpeg:https://storumanlapland.se/wp-content/uploads/20
 26/03/648733546_1622360119891997_2682408849736603117_n.jpg
CATEGORIES:Musik
LOCATION:Aktiviteten\, Skolgatan 23\, 923 31 Storuman\, Storuman\, Västerb
 ottens län\, 92331\, Sverige
GEO:65.096253;17.115044
X-APPLE-STRUCTURED-LOCATION;VALUE=URI;X-ADDRESS=Skolgatan 23\, 923 31 Storu
 man\, Storuman\, Västerbottens län\, 92331\, Sverige;X-APPLE-RADIUS=100;
 X-TITLE=Aktiviteten:geo:65.096253,17.115044
END:VEVENT
BEGIN:VTIMEZONE
TZID:Europe/Stockholm
X-LIC-LOCATION:Europe/Stockholm
BEGIN:STANDARD
DTSTART:20251026T020000
TZOFFSETFROM:+0200
TZOFFSETTO:+0100
TZNAME:CET
END:STANDARD
END:VTIMEZONE
END:VCALENDAR